Workbook
Name Kontrollkästchen1: Checkliste!#REF!
Name Passishaus: 'Gebäude-3'!$AI$8:$AI$10
Name Passivhaus: #REF!
Name Passivhaus: #REF!
Name Passivhaus: #REF!
Name Passivhaus: #REF!
Name Passivhaus: #REF!
Name Passivhaus: #REF!
Name Passivhaus: 'Gebäude-3'!$AK$8:$AK$9

Sheet Antrag
BA2: Hinweis zur Bearbeitung des Förderantrags: Um die Bearbeitung zu erleichtern, gehen Sie bitte wie folgt vor: 1. Einstieg auf der Seite „Antrag“: Füllen Sie zunächst die Felder 1–3 auf dieser Seite aus. 2. Sachliche Angaben zum Vorhaben. Bearbeiten Sie anschließend nacheinander: - Antragsteller – Grundstück - Gebäude – 3 (3a) - Förderberechnung 3. Finanzierungsbausteine wählen: Wechseln Sie danach zurück auf die Seite „Antrag“ und wählen Sie Ihre Finanzierungsbausteine aus. 4. Kosten und Wirtschaftlichkeit erfassen. Im nächsten Schritt bearbeiten Sie: - Kosten und Finanzierung - Wirtschaftlichkeitsberechnung 5. Vollständigkeit vor Einreichung sicherstellen. Wenn alle Eingaben final sind, - ergänzen Sie bitte die Erklärungen, - prüfen Sie die Checkliste, ob alle Unterlagen für die endgültige Einreichung vorliegen. 6. Unterlagen für die Einreichung vorbereiten. Ist Ihr Paket final, - wandeln Sie die Arbeitsmappe bei Bedarf in ein PDF um und drucken dieses aus, - holen Sie die Originalunterschriften ein und leiten Sie den Antrag an Ihre zuständige Wohnraumförderstelle weiter. Ein direkter Druck aus der Arbeitsmappe ist ebenfalls möglich; achten Sie dabei bitte auf die Sortierreihenfolge der Ausdrucke. 7. Navigation im Formular: - Zwischen nahe beieinanderliegenden Eingabefeldern können Sie komfortabel mit der Tab-Taste springen. - Für weiter entfernte Abschnitte nutzen Sie bitte den Mausklick.
D3: Antrag auf
D4: Mietwohnungsbauförderung
D5: für Haushalte mit geringem o. mittlerem Einkommen
D6: ab Programmjahr 06.2026
D7: Antragsnummer: | AR7: 4 | AS7: 4
AR8: 15 Jahre
AO9: Effi 70 | AP9: FALSE | AR9: 20 Jahre
AR10: 25 Jahre
D11: 1. Antragsteller/in | W11: 3 a. Betreuer/in oder Beauftragte/r | AO11: 3.1 | AP11: TRUE
AO12: 3.2 | AP12: TRUE
D13: Name, Vorname / Firma | W13: Name, Vorname / Firma | AO13: 3.3 | AP13: FALSE
AO14: 3.4 | AP14: FALSE
D15: Straße, Hausnummer | W15: Telefon / Beruf / Titel | AP15: FALSE
AP16: FALSE
D17: PLZ Ort | W17: E-Mail-Adresse | AP17: FALSE
D19: Telefon | AN19: 20 Jahre Zins | AO19: FALSE
AN20: 10 Jahre lauf | AO20: FALSE
D21: E-Mail-Adresse
D22: 2. Bauort / Grundstück | W22: 3 b. Korrespondenzadresse | AQ22: 40 Plus | AR22: 10 Jahre | AS22: 10 Jahre
AN23: 10 Jahre lauf | AO23: FALSE | AQ23: 40 | AR23: 20 Jahre | AS23: 25 Jahre
D24: PLZ, | F24: Ort | W24: PLZ, | Y24: Ort | AQ24: 55 | AS24: 35 Jahre
D26: Straße, Hausnummer | W26: Straße, Hausnummer | AQ26: 4 | AR26: 1 | AS26: 4
D29: =IF(AND(AP9=TRUE,AP14=TRUE,AP11=FALSE,AP12=FALSE,AP13=FALSE),"Diese Kombination ist nicht zulässig","") | AQ29: =IF(SUM(G47:I47)=0,0,1) -> 0 | AR29: =IF(AS7=4,0,1) -> 0 | AS29: =IF(AC46="",0,1) -> 0 | AT29: =SUM(AQ29:AS29) -> 0
AQ30: =IF(SUM(G38:I38)=0,0,1) -> 0 | AR30: =IF(AR7=4,0,1) -> 0 | AS30: =IF(AC37="",0,1) -> 0 | AT30: =SUM(AQ30:AS30) -> 0
B32: 4. | D32: Für das vorstehend bezeichnete und in den Anlagen näher beschriebene | AC32: Beträge in EUR | AP32: =IF(AT30=3,"","Bitte ") -> Bitte | AR32: =IF(AR30=1,"","Bindungsdauer wählen! ") -> Bindungsdauer wählen! | AS32: =IF(AS30=1,"","Darlehenshöhe mit Anlage ermitteln") -> Darlehenshöhe mit Anlage ermitteln | AT32: =IF(AT30=0,CONCATENATE(AP32,AQ32,AR32,AS32),"") -> Bitte Bindungsdauer wählen! Darlehenshöhe mit Anlage ermitteln
I33: TRUE | AP33: Bitte | AQ33: =IF(AQ31=1,"","Eingabe WE auf S. 3 tätigen, ") -> Eingabe WE auf S. 3 tätigen, | AR33: =IF(AR31=1,"","Bindungsdauer wählen, ") -> Bindungsdauer wählen, | AS33: =IF(AS31=1,"","Darlehenshöhe eingeben") -> Darlehenshöhe eingeben | AT33: =IF(AT31>0,CONCATENATE(AP33,AQ33,AR33,AS33),"")
D34: Förderobjekt/Bauvorhaben wird/werden beantragt: | AP34: =IF(AT29=3,"","Bitte ") -> Bitte | AR34: =IF(AR29=1,"","Bindungsdauer wählen!") -> Bindungsdauer wählen! | AS34: =IF(AS29=1,"","Darlehenshöhe mit Anlage ermitteln") -> Darlehenshöhe mit Anlage ermitteln | AT34: =IF(AT29=0,CONCATENATE(AP34,AQ34,AR34,AS34),"") -> Bitte Bindungsdauer wählen!Darlehenshöhe mit Anlage ermitteln
D35: Bitte Kontrollkästen bei den gewünschten Finanzierungsbausteinen anklicken!
B37: 4.1 | D37: FALSE | E37: Baudarlehen "Geringe Einkommen" | AC37: =IF(D37=TRUE,Förderberechnung!K30,"") | AK37: =IF(AND(AN37=0,AP11=TRUE),"*1","") -> *1 | AN37: =IF(AC37="",0,1) -> 0 | BA37: =IF(OR(AC37="",Förderberechnung!K30=""),"",IF(AC38<>ROUNDDOWN(Förderberechnung!K30,-2),"Sie haben eine manuelle Eingabe getätigt, bitte überprüfen Sie den Wert, da der automatische Übertrag gelöscht ist.",""))
E38: für | G38: =IF(SUM('Gebäude-3'!AA54,'Gebäude-3'!AA58)=0,"",SUM('Gebäude-3'!AA54,'Gebäude-3'!AA58)) | K38: Wohnungen, davon mit mittelbarer Belegung gemäß | AC38: =IF(AC37="","Förderbetrag wird errechnet und auf volle Hunderter abgerundet",ROUNDDOWN(AC37,-2)) -> Förderbetrag wird errechnet und auf volle Hunderter abgerundet | AN38: =IF(G38="",0,1) -> 0
E39: § 22 HWoFG | J39: =IF('Gebäude-3'!AA58="","",'Gebäude-3'!AA58) | N39: Wohnungen | S39: =IF(AND(AQ30=1,AR7=4),"Bitte die Bindungsdauer wählen!","") | AK39: =IF(OR(AC38="",Förderberechnung!K30=""),"",IF(AC38<>ROUNDDOWN(Förderberechnung!K30,-2),"!",""))
E40: Bindung | H40: =IF(AR7=1,15,IF(AR7=2,20,IF(AR7=3,25,""))) | I40: Jahre
E42: ergänzender Finanzierungszuschuss | P42: =IF('Gebäude-3'!AK10=2,"","inkl. Zuschlag für Effizienzhaus") | AC42: =IF($AC$37="","",IF(AR7=1,AC38*0.2+N(Förderberechnung!K39),IF(AR7=2,AC38*0.3+N(Förderberechnung!K39),IF(AR7=3,AC38*0.4+N(Förderberechnung!K39),""))))
B44: 4.11 | D44: FALSE | E44: Zuschlag "Großer Frankfurter Bogen" (hierauf wird kein Finanzierungszuschuss gewährt) | AC44: =IF(D44=TRUE,IF(G38="","",G38*10000),"")
B46: 4.2 | D46: FALSE | E46: Baudarlehen "Mittlere Einkommen" | AC46: =IF(D46=TRUE,Förderberechnung!K32,"") | AK46: =IF(AND(AP12=TRUE,AN46=0),"*1","") -> *1 | AN46: =IF(AC46="",0,1) -> 0 | BA46: =IF(OR(AC46="",Förderberechnung!K32=""),"",IF(AC47<>ROUNDDOWN(Förderberechnung!K32,-2),"Sie haben eine manuelle Eingabe getätigt, bitte überprüfen Sie den Wert, da der automatische Übertrag gelöscht ist.",""))
E47: für | G47: =IF(SUM('Gebäude-3'!AA52,'Gebäude-3'!AA56)=0,"",SUM('Gebäude-3'!AA52,'Gebäude-3'!AA56)) | K47: Wohnungen, davon mit mittelbarer Belegung gemäß | AC47: =IF(AC46="","Förderbetrag wird errechnet und auf volle Hunderter abgerundet",ROUNDDOWN(AC46,-2)) -> Förderbetrag wird errechnet und auf volle Hunderter abgerundet | AN47: =IF(G47="",0,1) -> 0
A48: Antragsvordruck: Stand 21.10.2026 | E48: § 22 HWoFG | J48: =IF('Gebäude-3'!AA56="","",'Gebäude-3'!AA56) | N48: Wohnungen | S48: =IF(AND(AQ29=1,AS7=4),"Bitte die Bindungsdauer wählen!","") | AK48: =IF(OR(AC47="",Förderberechnung!K32=""),"",IF(AC47<>ROUNDDOWN(Förderberechnung!K32,-2),"!",""))
E49: Bindung | H49: =IF(AS7=1,15,IF(AS7=2,20,IF(AS7=3,25,""))) | I49: Jahre
E51: ergänzender Finanzierungszuschuss | P51: =IF('Gebäude-3'!AK10=2,"","inkl. Zuschlag für Effizienzhaus") | AC51: =IF($AC$46="","",IF(AS7=1,AC47*0.2+N(Förderberechnung!K41),IF(AS7=2,AC47*0.25+N(Förderberechnung!K41),IF(AS7=3,AC47*0.3+N(Förderberechnung!K41),""))))
...

Sheet Antragsteller-Grundstück
B2: 5. | C2: Informationen zum Antragssteller
C4: Antragsteller/in ist/sind:
C6: Sie sind bereits Bestandskunde bei der WIBANK? - ja | G6: FALSE | I6: =IF(G6, "Haben sich Ihre Daten seit letzter Antragstellung geändert?", " ") | K6: =IF(I6<>" ", "Ja", " ") | L6: FALSE | M6: =IF(I6<>" ", "Nein", " ") | N6: FALSE
C7: =IF(N6, "Vielen Dank, Ihre Informationen liegen uns bereits vor, die Tabelle ist nicht zu befüllen", "Bitte ergänzen Sie diese Tabelle") -> Bitte ergänzen Sie diese Tabelle
C8: Rolle: bitte auswählen | E8: Name | I8: Vorname | K8: Geb.Datum | L8: Straße, Hausnummer PLZ, Ort
C15: Bitte beachten Sie, dass weitere Nachweise für die Prüfung der Kreditwürdigkeit nötig sind.
C16: Bitte nutzen Sie dafür die Checkliste und reichen die entsprechenden Informationen direkt bei Antragstellung mit ein.
B18: 6. | C18: Ergänzende Angaben zum Bauort/Grundstück
B20: 6.1 | C20: Kaufvertrag abgeschlossen am: | J20: Erbbaurecht bestellt bis zum Jahr:
B22: 6.2 | C22: eingetragen beim Amtsgericht
C23: in | J23: im Grundbuch von
C25: Blatt | F25: BV-Nr. | I25: Flur | K25: Flurstück | M25: Größe | O25: m²
C26: Blatt | F26: BV-Nr. | I26: Flur | K26: Flurstück | M26: Größe | O26: m²
C27: Blatt | F27: BV-Nr. | I27: Flur | K27: Flurstück | M27: Größe | O27: m²
C29: Größe des Baugrundstückes: | N29: =IF(SUM($M$25:$N$27)=0,"",SUM($M$25:$N$27)) | O29: m²
B31: 6.3 | C31: Belastungen im Grundbuch:
C33: Abt. II Nr. | F33: Recht:
C35: Abt. II Nr. | F35: Recht:
C37: Abt. III Nr. | F37: EUR | K37: für
C39: Abt. III Nr. | F39: EUR | K39: für
C41: Abt. III Nr. | F41: EUR | K41: für
B43: 6.4 | C43: Bestehende Objektfinanzierungsmittel (vor-, gleich- und nachrangige)
A45: =TODAY() -> 46316 | C45: Darlehensgeber | F45: Nominalkapital (€) | J45: Restkapital (€) | L45: Sollzinssatz (%) | M45: Tilgungssatz (%) | N45: aktuelle Rate p.a. (€)
B46: 6.4.1
B47: 6.4.2
B48: 6.4.3
B49: 6.4.4
B50: 6.4.5
C51: Zinsbindung bis TT.MM.JJJJ | F51: grundbuchliche Sicherung | I51: sonstige Sicherheit | J51: weitere Erläuterungen:
F52: ja | G52: nein | J52: Bitte beschreiben Sie hier, falls Veränderungen (z.B. Ablösung, Rückzahlung, etc. geplant sind)
B53: 6.4.1 | F53: FALSE | G53: FALSE | I53: FALSE
B54: 6.4.2 | F54: FALSE | G54: FALSE | I54: FALSE
B55: 6.4.3 | F55: FALSE | G55: FALSE | I55: FALSE
B56: 6.4.4 | F56: FALSE | G56: FALSE | I56: FALSE
B57: 6.4.5 | F57: FALSE | G57: FALSE | I57: FALSE
C58: Hinweis: Bitte ergänzen Sie auf der Kosten- und Finanzierungsseite die weiterhin bestehenden Verbindlichkeiten (Restkapital, sofern diese direkt dem Neuantrag zuzuordnen sind). Bei Fragen wenden Sie sich an Ihren Sachbearbeiter.
B60: Antragsteller: | D60: =IF(Antrag!$D$12="","",Antrag!$D$12) | N60: Seite 2 von Seite 9

Sheet Gebäude-3
C2: 7. | E2: Gebäude
C3: 7.1 | E3: Mietwohnungen / Genossenschaftswohnungen
C4: 7.1.1 | E4: Baubeginn
C5: Mit dem Bau wird/wurde begonnen am: | T5: ; | U5: die Bezugsfertigkeit ist vorgesehen bis zum:
C7: 7.1.2 | E7: Effizienzhausstandard
C8: Effizienzhausstandard gemäß Förderrichtlinie | O8: =IF(AK10=1,"Ja",IF(AK10=2,"Nein","")) -> Nein | W8: =IF(AK10=1,"Bitte den Reiter 'Erklärung Effizienzhauszuschlag' ausfüllen","") | AK8: Ja | AV8: DIN 18040 "R"
AK9: Nein
C10: 7.1.3 | E10: Wohneinheiten / Förderung | P10: bitte mit X markieren | V10: weitere Erfassungen auf 'Gebäude-3a' möglich | AK10: 2 | AO10: 1 | AP10: 2 | AQ10: 3 | AR10: 3a | AT10: 4 | AU10: 5 | AV10: 6 | AW10: 7 | AY10: 8 | AZ10: 9 | BA10: 10 | BB10: 10a | BC10: 11 | BD10: 12 | BE10: 13 | BF10: 14 | BG10: 15 | BH10: 16 | BI10: 17 | BJ10: 18 | BK10: 19 | BL10: 20
C12: An- zahl WE | E12: je Wohneinheit | P12: DIN 18 040 mit "R" | Q12: DIN 18 040 ohne "R" | R12: Mittelbare Belegung | S12: Mittlere Einkommen | T12: Maßnahmen im Gebäudebestand | U12: davon geförderte WE | AC12: davon nicht geförderte WE | AF12: nachrichtlich: | AO12: Standard 2 | AP12: Standard 1 | AQ12: Mittlere Einkommen | AR12: Mittelbare Belegung | AU12: WF Teil2 ohne R | AV12: WF Teil1 mit R | AW12: Anzahl DIN 18040 "R" | AX12: geringe EK, DIN 18040 | AY12: mittlere EK, DIN 18040 | AZ12: WE geringe Einkommen | BA12: WF geringe Einkommen | BB12: freie Wohnungen | BC12: WF tats. geringe Einkommen | BD12: WE mittelb. Belegung ohne Kombi. | BE12: WF mittelb. Belegung ohne Kombi. | BF12: WF tat. mittelb. Belegung ohne Kombi. | BG12: WE mittelb. Belegung | BH12: Mittelbare Belegung WF | BI12: Mittelbare Belegung WF tat | BJ12: WE Mittlere Einkommen | BK12: Mittlere Einkommen WF | BL12: Mittlere Einkommen WF tat
E13: Personen | F13: Zimmer | H13: Küche | I13: Bad / WC | K13: zusätzl. WC | L13: Wohn- fläche in m² | N13: Gesamt- wohn- fläche in m² | U13: Obergrenze | X13: max. Zusatz-fläche | AA13: Summe | AF13: Wohnungsnummer(n) gem. beigefügten Grundrissen, Raumbuch, Wfl-Berechnung
U14: WE | V14: Wohn- fläche m² | X14: DIN 18040 mit "R" | Y14: §16 | Z14: DIN 18040 ohne "R" | AA14: förderfähige Wohnfläche m² | AC14: WE | AD14: Wohn- fläche m² | AT14: Summe | BN14: WF | BO14: Differenz SOLL-IST | BQ14: Regelfläche
N15: =IF(OR(C15="",L15=""),"",L15*C15) | V15: =IF(OR(L15="",U15="",U15=0),"",IF(AND(OR(E15=1,E15=2),F15=3,L15>=72),72,IF(AND(E15=1,L15>=45),45,IF(AND(E15=1,L15<45),L15,IF(AND(E15=2,L15>60),60,IF(AND(E15=2,L15<60),L15,IF(AND(F15=3,L15>72),72,IF(AND(E15>2,BP15*12+60>L15),L15,BP15*12+60)))))))) | X15: =IF(AND(P15="x",S15="x",T15="x"),"",IF(AND(P15="X",R15="X",S15="X"),"",IF(OR(AT15=8,AT15=9,U15=""),"",IF(OR(AT15=4,AT15=11),BQ15*16/100,"")))) | Z15: =IF(OR(AT15=17,AT15=7),(BQ15*16/100+BQ15+L15-V15)*U15,IF(OR(AT15=16,AT15=15,AT15=8,AT15=13,AT15=1,AT15=9,AT15=20,AT15=21),BQ15*U15,IF(AT15=12,(BQ15+L15-V15)*U15,IF(OR(AT15=4,AT15=11),(BQ15*16/100+BQ15)*U15,IF(AT15=6,(BQ15+L15-V15)*U15,0))))) -> #VALUE! | AA15: =IF(OR(U15="",U15=0,V15=""),"",IF(OR(Z15=0,Z15=""),"",IF(Z15/U15>L15,L15*U15,Z15))) | AC15: =IF(C15="","",IF(C15-U15=0,"",C15-U15)) | AD15: =IF(AC15="","",AC15*L15) | AJ15: 17 | AK15: =BQ15*16/100 -> #VALUE! | AL15: =L15-BQ15 -> #VALUE! | AM15: =BQ15 | AN15: =SUM(AK15:AM15) -> #VALUE! | AO15: =IF(AND(COUNTIF(P15:T15,"x")=3,P15="X",S15="X",T15="X"),17,IF(COUNTIF(P15:T15,"x")=0,1,0)) -> 1 | AP15: =IF(AND(COUNTIF(P15:T15,"x")=2,P15="x",T15="X"),7,IF(AND(COUNTIF(P15:T15,"x")=1,P15="X"),4,IF(AND(COUNTIF(P15:T15,"x")=1,T15="X"),6,0))) -> 0 | AQ15: =IF(AND(COUNTIF(P15:T15,"x")=2,S15="X",R15="X"),9,IF(AND(COUNTIF(P15:T15,"x")=2,S15="X",P15="X"),11,IF(AND(COUNTIF(P15:T15,"x")=2,S15="X",T15="X"),12,IF(AND(COUNTIF(P15:T15,"x")=1,S15="X"),13,0)))) -> 0 | AR15: =IF(AND(COUNTIF(P15:T15,"x")=3,P15="X",R15="X",T15="X"),21,IF(AND(COUNTIF(P15:T15,"x")=1,R15="X"),8,IF(AND(COUNTIF(P15:T15,"x")=2,R15="X",P15="X"),15,IF(AND(COUNTIF(P15:T15,"x")=2,R15="X",T15="X"),16,0)))) -> 0 | AS15: =IF(AND(COUNTIF(P15:T15,"x")=4,P15="X",R15="X",S15="X",T15="X"),20,IF(AND(COUNTIF(P15:T15,"x")=3,R15="X",S15="X",T15="X"),20,IF(AND(COUNTIF(P15:T15,"x")=3,P15="X",R15="X",S15="X"),20,0))) -> 0 | AT15: =SUM(AO15:AS15) -> 1 | AU15: 0 | AV15: =IF(OR(U15="",AT15=20,AT15=21),0,IF(OR(AT15=8,AT15=9,AT15=15),0,IF(P15<>"",AA15,0))) -> 0 | AW15: =IF(OR(U15="",AT15=20,AT15=21),0,IF(OR(AT15=8,AT15=9,AT15=15),0,IF(P15<>"",U15,0))) -> 0 | AX15: =IF(OR(AT15=4,AT15=7),AV15,0) -> 0 | AY15: =IF(OR(AT15=11,AT15=17),AV15,0) -> 0 | AZ15: =IF(OR(U15="",AT15=20),0,IF(OR(AT15=4,AT15=5,AT15=6,AT15=7,AT15=3,AT15=1),U15,0)) -> 0 | BA15: =IF(OR(U15="",AT15=20),0,IF(OR(AT15=4,AT15=5,AT15=6,AT15=7,AT15=3,AT15=1),AA15,0)) -> 0 | BB15: =IF(AD15="",0,AD15) -> 0 | BC15: =IF(OR(AT15=20,U15=""),0,IF(OR(AT15=4,AT15=5,AT15=6,AT15=7,AT15=3,AT15=1),N15-BB15,0)) -> 0 | BD15: =IF(OR(U15="",AT15=20),0,IF(OR(AT15=8,AT15=14,AT15=15,AT15=16,AT15=21),U15,0)) -> 0 | BE15: =IF(OR(U15="",AT15=20),0,IF(OR(AT15=8,AT15=14,AT15=15,AT15=16,AT15=21),AA15,0)) -> 0 | BF15: =IF(OR(U15="",AT15=20),0,IF(OR(AT15=8,AT15=14,AT15=15,AT15=16,AT15=21),N15-BB15,0)) -> 0 | BG15: =IF(U15="",0,IF(OR(AT15=9,AT15=20),U15,0)) -> 0 | BH15: =IF(U15="",0,IF(OR(AT15=9,AT15=20),AA15,0)) -> 0 | BI15: =IF(U15="",0,IF(OR(AT15=9,AT15=20),N15-BB15,0)) -> 0 | BJ15: =IF(AT15=20,0,IF(OR(AT15=10,AT15=11,AT15=12,AT15=13,AT15=17,AT15=18),U15,0)) -> 0 | BK15: =IF(OR(U15="",AT15=20),0,IF(OR(AT15=10,AT15=11,AT15=12,AT15=13,AT15=17,AT15=18,),AA15,0)) -> 0 | BL15: =IF(OR(U15="",AT15=20),0,IF(OR(AT15=10,AT15=11,AT15=12,AT15=13,AT15=17,AT15=18),N15-BB15,0)) -> 0 | BN15: =IF(L15<V15,L15,V15) | BO15: =IF(OR(L15="",V15=""),0,L15-V15) -> 0 | BP15: =IF(E15="",0,E15-2) -> 0 | BQ15: =IF(OR(L15="",U15=""),"",IF(AND(E15=1,L15>=45),45,IF(AND(E15=1,L15<45),45,IF(AND(E15=2,L15>60),60,IF(AND(E15=2,L15<60),60,IF(AND(F15=3,L15>72),72,IF(AND(E15>2,BP15*12+60>L15),BP15*12+60,BP15*12+60)))))))
N16: =IF(OR(C16="",L16=""),"",L16*C16) | V16: =IF(OR(L16="",U16="",U16=0),"",IF(AND(OR(E16=1,E16=2),F16=3,L16>=72),72,IF(AND(E16=1,L16>=45),45,IF(AND(E16=1,L16<45),L16,IF(AND(E16=2,L16>60),60,IF(AND(E16=2,L16<60),L16,IF(AND(F16=3,L16>72),72,IF(AND(E16>2,BP16*12+60>L16),L16,BP16*12+60)))))))) | X16: =IF(AND(P16="x",S16="x",T16="x"),"",IF(AND(P16="X",R16="X",S16="X"),"",IF(OR(AT16=8,AT16=9,U16=""),"",IF(OR(AT16=4,AT16=11),BQ16*16/100,"")))) | Z16: =IF(OR(AT16=17,AT16=7),(BQ16*16/100+BQ16+L16-V16)*U16,IF(OR(AT16=16,AT16=15,AT16=8,AT16=13,AT16=1,AT16=9,AT16=20,AT16=21),BQ16*U16,IF(AT16=12,(BQ16+L16-V16)*U16,IF(OR(AT16=4,AT16=11),(BQ16*16/100+BQ16)*U16,IF(AT16=6,(BQ16+L16-V16)*U16,0))))) -> #VALUE! | AA16: =IF(OR(U16="",U16=0,V16=""),"",IF(OR(Z16=0,Z16=""),"",IF(Z16/U16>L16,L16*U16,Z16))) | AC16: =IF(C16="","",IF(C16-U16=0,"",C16-U16)) | AD16: =IF(AC16="","",AC16*L16) | AJ16: 12 | AL16: =L16-BQ16 -> #VALUE! | AM16: =BQ16 | AN16: =SUM(AK16:AM16) -> #VALUE! | AO16: =IF(AND(COUNTIF(P16:T16,"x")=3,P16="X",S16="X",T16="X"),17,IF(COUNTIF(P16:T16,"x")=0,1,0)) -> 1 | AP16: =IF(AND(COUNTIF(P16:T16,"x")=2,P16="x",T16="X"),7,IF(AND(COUNTIF(P16:T16,"x")=1,P16="X"),4,IF(AND(COUNTIF(P16:T16,"x")=1,T16="X"),6,0))) -> 0 | AQ16: =IF(AND(COUNTIF(P16:T16,"x")=2,S16="X",R16="X"),9,IF(AND(COUNTIF(P16:T16,"x")=2,S16="X",P16="X"),11,IF(AND(COUNTIF(P16:T16,"x")=2,S16="X",T16="X"),12,IF(AND(COUNTIF(P16:T16,"x")=1,S16="X"),13,0)))) -> 0 | AR16: =IF(AND(COUNTIF(P16:T16,"x")=3,P16="X",R16="X",T16="X"),21,IF(AND(COUNTIF(P16:T16,"x")=1,R16="X"),8,IF(AND(COUNTIF(P16:T16,"x")=2,R16="X",P16="X"),15,IF(AND(COUNTIF(P16:T16,"x")=2,R16="X",T16="X"),16,0)))) -> 0 | AS16: =IF(AND(COUNTIF(P16:T16,"x")=4,P16="X",R16="X",S16="X",T16="X"),20,IF(AND(COUNTIF(P16:T16,"x")=3,R16="X",S16="X",T16="X"),20,IF(AND(COUNTIF(P16:T16,"x")=3,P16="X",R16="X",S16="X"),20,0))) -> 0 | AT16: =SUM(AO16:AS16) -> 1 | AU16: 1 | AV16: =IF(OR(U16="",AT16=20,AT16=21),0,IF(OR(AT16=8,AT16=9,AT16=15),0,IF(P16<>"",AA16,0))) -> 0 | AW16: =IF(OR(U16="",AT16=20,AT16=21),0,IF(OR(AT16=8,AT16=9,AT16=15),0,IF(P16<>"",U16,0))) -> 0 | AX16: =IF(OR(AT16=4,AT16=7),AV16,0) -> 0 | AY16: =IF(OR(AT16=11,AT16=17),AV16,0) -> 0 | AZ16: =IF(OR(U16="",AT16=20),0,IF(OR(AT16=4,AT16=5,AT16=6,AT16=7,AT16=3,AT16=1),U16,0)) -> 0 | BA16: =IF(OR(U16="",AT16=20),0,IF(OR(AT16=4,AT16=5,AT16=6,AT16=7,AT16=3,AT16=1),AA16,0)) -> 0 | BB16: =IF(AD16="",0,AD16) -> 0 | BC16: =IF(OR(AT16=20,U16=""),0,IF(OR(AT16=4,AT16=5,AT16=6,AT16=7,AT16=3,AT16=1),N16-BB16,0)) -> 0 | BD16: =IF(OR(U16="",AT16=20),0,IF(OR(AT16=8,AT16=14,AT16=15,AT16=16,AT16=21),U16,0)) -> 0 | BE16: =IF(OR(U16="",AT16=20),0,IF(OR(AT16=8,AT16=14,AT16=15,AT16=16,AT16=21),AA16,0)) -> 0 | BF16: =IF(OR(U16="",AT16=20),0,IF(OR(AT16=8,AT16=14,AT16=15,AT16=16,AT16=21),N16-BB16,0)) -> 0 | BG16: =IF(U16="",0,IF(OR(AT16=9,AT16=20),U16,0)) -> 0 | BH16: =IF(U16="",0,IF(OR(AT16=9,AT16=20),AA16,0)) -> 0 | BI16: =IF(U16="",0,IF(OR(AT16=9,AT16=20),N16-BB16,0)) -> 0 | BJ16: =IF(AT16=20,0,IF(OR(AT16=10,AT16=11,AT16=12,AT16=13,AT16=17,AT16=18),U16,0)) -> 0 | BK16: =IF(OR(U16="",AT16=20),0,IF(OR(AT16=10,AT16=11,AT16=12,AT16=13,AT16=17,AT16=18,),AA16,0)) -> 0 | BL16: =IF(OR(U16="",AT16=20),0,IF(OR(AT16=10,AT16=11,AT16=12,AT16=13,AT16=17,AT16=18),N16-BB16,0)) -> 0 | BN16: =IF(L16<V16,L16,V16) | BO16: =IF(OR(L16="",V16=""),0,L16-V16) -> 0 | BP16: =IF(E16="",0,E16-2) -> 0 | BQ16: =IF(OR(L16="",U16=""),"",IF(AND(E16=1,L16>=45),45,IF(AND(E16=1,L16<45),45,IF(AND(E16=2,L16>60),60,IF(AND(E16=2,L16<60),60,IF(AND(F16=3,L16>72),72,IF(AND(E16>2,BP16*12+60>L16),BP16*12+60,BP16*12+60)))))))
N17: =IF(OR(C17="",L17=""),"",L17*C17) | V17: =IF(OR(L17="",U17="",U17=0),"",IF(AND(OR(E17=1,E17=2),F17=3,L17>=72),72,IF(AND(E17=1,L17>=45),45,IF(AND(E17=1,L17<45),L17,IF(AND(E17=2,L17>60),60,IF(AND(E17=2,L17<60),L17,IF(AND(F17=3,L17>72),72,IF(AND(E17>2,BP17*12+60>L17),L17,BP17*12+60)))))))) | X17: =IF(AND(P17="x",S17="x",T17="x"),"",IF(AND(P17="X",R17="X",S17="X"),"",IF(OR(AT17=8,AT17=9,U17=""),"",IF(OR(AT17=4,AT17=11),BQ17*16/100,"")))) | Z17: =IF(OR(AT17=17,AT17=7),(BQ17*16/100+BQ17+L17-V17)*U17,IF(OR(AT17=16,AT17=15,AT17=8,AT17=13,AT17=1,AT17=9,AT17=20,AT17=21),BQ17*U17,IF(AT17=12,(BQ17+L17-V17)*U17,IF(OR(AT17=4,AT17=11),(BQ17*16/100+BQ17)*U17,IF(AT17=6,(BQ17+L17-V17)*U17,0))))) -> #VALUE! | AA17: =IF(OR(U17="",U17=0,V17=""),"",IF(OR(Z17=0,Z17=""),"",IF(Z17/U17>L17,L17*U17,Z17))) | AC17: =IF(C17="","",IF(C17-U17=0,"",C17-U17)) | AD17: =IF(AC17="","",AC17*L17) | AJ17: 20 | AM17: =BQ17 | AN17: =SUM(AK17:AM17) -> 0 | AO17: =IF(AND(COUNTIF(P17:T17,"x")=3,P17="X",S17="X",T17="X"),17,IF(COUNTIF(P17:T17,"x")=0,1,0)) -> 1 | AP17: =IF(AND(COUNTIF(P17:T17,"x")=2,P17="x",T17="X"),7,IF(AND(COUNTIF(P17:T17,"x")=1,P17="X"),4,IF(AND(COUNTIF(P17:T17,"x")=1,T17="X"),6,0))) -> 0 | AQ17: =IF(AND(COUNTIF(P17:T17,"x")=2,S17="X",R17="X"),9,IF(AND(COUNTIF(P17:T17,"x")=2,S17="X",P17="X"),11,IF(AND(COUNTIF(P17:T17,"x")=2,S17="X",T17="X"),12,IF(AND(COUNTIF(P17:T17,"x")=1,S17="X"),13,0)))) -> 0 | AR17: =IF(AND(COUNTIF(P17:T17,"x")=3,P17="X",R17="X",T17="X"),21,IF(AND(COUNTIF(P17:T17,"x")=1,R17="X"),8,IF(AND(COUNTIF(P17:T17,"x")=2,R17="X",P17="X"),15,IF(AND(COUNTIF(P17:T17,"x")=2,R17="X",T17="X"),16,0)))) -> 0 | AS17: =IF(AND(COUNTIF(P17:T17,"x")=4,P17="X",R17="X",S17="X",T17="X"),20,IF(AND(COUNTIF(P17:T17,"x")=3,R17="X",S17="X",T17="X"),20,IF(AND(COUNTIF(P17:T17,"x")=3,P17="X",R17="X",S17="X"),20,0))) -> 0 | AT17: =SUM(AO17:AS17) -> 1 | AU17: 2 | AV17: =IF(OR(U17="",AT17=20,AT17=21),0,IF(OR(AT17=8,AT17=9,AT17=15),0,IF(P17<>"",AA17,0))) -> 0 | AW17: =IF(OR(U17="",AT17=20,AT17=21),0,IF(OR(AT17=8,AT17=9,AT17=15),0,IF(P17<>"",U17,0))) -> 0 | AX17: =IF(OR(AT17=4,AT17=7),AV17,0) -> 0 | AY17: =IF(OR(AT17=11,AT17=17),AV17,0) -> 0 | AZ17: =IF(OR(U17="",AT17=20),0,IF(OR(AT17=4,AT17=5,AT17=6,AT17=7,AT17=3,AT17=1),U17,0)) -> 0 | BA17: =IF(OR(U17="",AT17=20),0,IF(OR(AT17=4,AT17=5,AT17=6,AT17=7,AT17=3,AT17=1),AA17,0)) -> 0 | BB17: =IF(AD17="",0,AD17) -> 0 | BC17: =IF(OR(AT17=20,U17=""),0,IF(OR(AT17=4,AT17=5,AT17=6,AT17=7,AT17=3,AT17=1),N17-BB17,0)) -> 0 | BD17: =IF(OR(U17="",AT17=20),0,IF(OR(AT17=8,AT17=14,AT17=15,AT17=16,AT17=21),U17,0)) -> 0 | BE17: =IF(OR(U17="",AT17=20),0,IF(OR(AT17=8,AT17=14,AT17=15,AT17=16,AT17=21),AA17,0)) -> 0 | BF17: =IF(OR(U17="",AT17=20),0,IF(OR(AT17=8,AT17=14,AT17=15,AT17=16,AT17=21),N17-BB17,0)) -> 0 | BG17: =IF(U17="",0,IF(OR(AT17=9,AT17=20),U17,0)) -> 0 | BH17: =IF(U17="",0,IF(OR(AT17=9,AT17=20),AA17,0)) -> 0 | BI17: =IF(U17="",0,IF(OR(AT17=9,AT17=20),N17-BB17,0)) -> 0 | BJ17: =IF(AT17=20,0,IF(OR(AT17=10,AT17=11,AT17=12,AT17=13,AT17=17,AT17=18),U17,0)) -> 0 | BK17: =IF(OR(U17="",AT17=20),0,IF(OR(AT17=10,AT17=11,AT17=12,AT17=13,AT17=17,AT17=18,),AA17,0)) -> 0 | BL17: =IF(OR(U17="",AT17=20),0,IF(OR(AT17=10,AT17=11,AT17=12,AT17=13,AT17=17,AT17=18),N17-BB17,0)) -> 0 | BN17: =IF(L17<V17,L17,V17) | BO17: =IF(OR(L17="",V17=""),0,L17-V17) -> 0 | BP17: =IF(E17="",0,E17-2) -> 0 | BQ17: =IF(OR(L17="",U17=""),"",IF(AND(E17=1,L17>=45),45,IF(AND(E17=1,L17<45),45,IF(AND(E17=2,L17>60),60,IF(AND(E17=2,L17<60),60,IF(AND(F17=3,L17>72),72,IF(AND(E17>2,BP17*12+60>L17),BP17*12+60,BP17*12+60)))))))
N18: =IF(OR(C18="",L18=""),"",L18*C18) | V18: =IF(OR(L18="",U18="",U18=0),"",IF(AND(OR(E18=1,E18=2),F18=3,L18>=72),72,IF(AND(E18=1,L18>=45),45,IF(AND(E18=1,L18<45),L18,IF(AND(E18=2,L18>60),60,IF(AND(E18=2,L18<60),L18,IF(AND(F18=3,L18>72),72,IF(AND(E18>2,BP18*12+60>L18),L18,BP18*12+60)))))))) | X18: =IF(AND(P18="x",S18="x",T18="x"),"",IF(AND(P18="X",R18="X",S18="X"),"",IF(OR(AT18=8,AT18=9,U18=""),"",IF(OR(AT18=4,AT18=11),BQ18*16/100,"")))) | Z18: =IF(OR(AT18=17,AT18=7),(BQ18*16/100+BQ18+L18-V18)*U18,IF(OR(AT18=16,AT18=15,AT18=8,AT18=13,AT18=1,AT18=9,AT18=20,AT18=21),BQ18*U18,IF(AT18=12,(BQ18+L18-V18)*U18,IF(OR(AT18=4,AT18=11),(BQ18*16/100+BQ18)*U18,IF(AT18=6,(BQ18+L18-V18)*U18,0))))) -> #VALUE! | AA18: =IF(OR(U18="",U18=0,V18=""),"",IF(OR(Z18=0,Z18=""),"",IF(Z18/U18>L18,L18*U18,Z18))) | AC18: =IF(C18="","",IF(C18-U18=0,"",C18-U18)) | AD18: =IF(AC18="","",AC18*L18) | AJ18: 7 | AK18: =BQ18*16/100 -> #VALUE! | AL18: =L18-BQ18 -> #VALUE! | AM18: =BQ18 | AN18: =SUM(AK18:AM18) -> #VALUE! | AO18: =IF(AND(COUNTIF(P18:T18,"x")=3,P18="X",S18="X",T18="X"),17,IF(COUNTIF(P18:T18,"x")=0,1,0)) -> 1 | AP18: =IF(AND(COUNTIF(P18:T18,"x")=2,P18="x",T18="X"),7,IF(AND(COUNTIF(P18:T18,"x")=1,P18="X"),4,IF(AND(COUNTIF(P18:T18,"x")=1,T18="X"),6,0))) -> 0 | AQ18: =IF(AND(COUNTIF(P18:T18,"x")=2,S18="X",R18="X"),9,IF(AND(COUNTIF(P18:T18,"x")=2,S18="X",P18="X"),11,IF(AND(COUNTIF(P18:T18,"x")=2,S18="X",T18="X"),12,IF(AND(COUNTIF(P18:T18,"x")=1,S18="X"),13,0)))) -> 0 | AR18: =IF(AND(COUNTIF(P18:T18,"x")=3,P18="X",R18="X",T18="X"),21,IF(AND(COUNTIF(P18:T18,"x")=1,R18="X"),8,IF(AND(COUNTIF(P18:T18,"x")=2,R18="X",P18="X"),15,IF(AND(COUNTIF(P18:T18,"x")=2,R18="X",T18="X"),16,0)))) -> 0 | AS18: =IF(AND(COUNTIF(P18:T18,"x")=4,P18="X",R18="X",S18="X",T18="X"),20,IF(AND(COUNTIF(P18:T18,"x")=3,R18="X",S18="X",T18="X"),20,IF(AND(COUNTIF(P18:T18,"x")=3,P18="X",R18="X",S18="X"),20,0))) -> 0 | AT18: =SUM(AO18:AS18) -> 1 | AU18: 3 | AV18: =IF(OR(U18="",AT18=20,AT18=21),0,IF(OR(AT18=8,AT18=9,AT18=15),0,IF(P18<>"",AA18,0))) -> 0 | AW18: =IF(OR(U18="",AT18=20,AT18=21),0,IF(OR(AT18=8,AT18=9,AT18=15),0,IF(P18<>"",U18,0))) -> 0 | AX18: =IF(OR(AT18=4,AT18=7),AV18,0) -> 0 | AY18: =IF(OR(AT18=11,AT18=17),AV18,0) -> 0 | AZ18: =IF(OR(U18="",AT18=20),0,IF(OR(AT18=4,AT18=5,AT18=6,AT18=7,AT18=3,AT18=1),U18,0)) -> 0 | BA18: =IF(OR(U18="",AT18=20),0,IF(OR(AT18=4,AT18=5,AT18=6,AT18=7,AT18=3,AT18=1),AA18,0)) -> 0 | BB18: =IF(AD18="",0,AD18) -> 0 | BC18: =IF(OR(AT18=20,U18=""),0,IF(OR(AT18=4,AT18=5,AT18=6,AT18=7,AT18=3,AT18=1),N18-BB18,0)) -> 0 | BD18: =IF(OR(U18="",AT18=20),0,IF(OR(AT18=8,AT18=14,AT18=15,AT18=16,AT18=21),U18,0)) -> 0 | BE18: =IF(OR(U18="",AT18=20),0,IF(OR(AT18=8,AT18=14,AT18=15,AT18=16,AT18=21),AA18,0)) -> 0 | BF18: =IF(OR(U18="",AT18=20),0,IF(OR(AT18=8,AT18=14,AT18=15,AT18=16,AT18=21),N18-BB18,0)) -> 0 | BG18: =IF(U18="",0,IF(OR(AT18=9,AT18=20),U18,0)) -> 0 | BH18: =IF(U18="",0,IF(OR(AT18=9,AT18=20),AA18,0)) -> 0 | BI18: =IF(U18="",0,IF(OR(AT18=9,AT18=20),N18-BB18,0)) -> 0 | BJ18: =IF(AT18=20,0,IF(OR(AT18=10,AT18=11,AT18=12,AT18=13,AT18=17,AT18=18),U18,0)) -> 0 | BK18: =IF(OR(U18="",AT18=20),0,IF(OR(AT18=10,AT18=11,AT18=12,AT18=13,AT18=17,AT18=18,),AA18,0)) -> 0 | BL18: =IF(OR(U18="",AT18=20),0,IF(OR(AT18=10,AT18=11,AT18=12,AT18=13,AT18=17,AT18=18),N18-BB18,0)) -> 0 | BN18: =IF(L18<V18,L18,V18) | BO18: =IF(OR(L18="",V18=""),0,L18-V18) -> 0 | BP18: =IF(E18="",0,E18-2) -> 0 | BQ18: =IF(OR(L18="",U18=""),"",IF(AND(E18=1,L18>=45),45,IF(AND(E18=1,L18<45),45,IF(AND(E18=2,L18>60),60,IF(AND(E18=2,L18<60),60,IF(AND(F18=3,L18>72),72,IF(AND(E18>2,BP18*12+60>L18),BP18*12+60,BP18*12+60)))))))
N19: =IF(OR(C19="",L19=""),"",L19*C19) | V19: =IF(OR(L19="",U19="",U19=0),"",IF(AND(OR(E19=1,E19=2),F19=3,L19>=72),72,IF(AND(E19=1,L19>=45),45,IF(AND(E19=1,L19<45),L19,IF(AND(E19=2,L19>60),60,IF(AND(E19=2,L19<60),L19,IF(AND(F19=3,L19>72),72,IF(AND(E19>2,BP19*12+60>L19),L19,BP19*12+60)))))))) | X19: =IF(AND(P19="x",S19="x",T19="x"),"",IF(AND(P19="X",R19="X",S19="X"),"",IF(OR(AT19=8,AT19=9,U19=""),"",IF(OR(AT19=4,AT19=11),BQ19*16/100,"")))) | Z19: =IF(OR(AT19=17,AT19=7),(BQ19*16/100+BQ19+L19-V19)*U19,IF(OR(AT19=16,AT19=15,AT19=8,AT19=13,AT19=1,AT19=9,AT19=20,AT19=21),BQ19*U19,IF(AT19=12,(BQ19+L19-V19)*U19,IF(OR(AT19=4,AT19=11),(BQ19*16/100+BQ19)*U19,IF(AT19=6,(BQ19+L19-V19)*U19,0))))) -> #VALUE! | AA19: =IF(OR(U19="",U19=0,V19=""),"",IF(OR(Z19=0,Z19=""),"",IF(Z19/U19>L19,L19*U19,Z19))) | AC19: =IF(C19="","",IF(C19-U19=0,"",C19-U19)) | AD19: =IF(AC19="","",AC19*L19) | AJ19: 4 | AK19: =BQ19*16/100 -> #VALUE! | AM19: =BQ19 | AN19: =SUM(AK19:AM19) -> #VALUE! | AO19: =IF(AND(COUNTIF(P19:T19,"x")=3,P19="X",S19="X",T19="X"),17,IF(COUNTIF(P19:T19,"x")=0,1,0)) -> 1 | AP19: =IF(AND(COUNTIF(P19:T19,"x")=2,P19="x",T19="X"),7,IF(AND(COUNTIF(P19:T19,"x")=1,P19="X"),4,IF(AND(COUNTIF(P19:T19,"x")=1,T19="X"),6,0))) -> 0 | AQ19: =IF(AND(COUNTIF(P19:T19,"x")=2,S19="X",R19="X"),9,IF(AND(COUNTIF(P19:T19,"x")=2,S19="X",P19="X"),11,IF(AND(COUNTIF(P19:T19,"x")=2,S19="X",T19="X"),12,IF(AND(COUNTIF(P19:T19,"x")=1,S19="X"),13,0)))) -> 0 | AR19: =IF(AND(COUNTIF(P19:T19,"x")=3,P19="X",R19="X",T19="X"),21,IF(AND(COUNTIF(P19:T19,"x")=1,R19="X"),8,IF(AND(COUNTIF(P19:T19,"x")=2,R19="X",P19="X"),15,IF(AND(COUNTIF(P19:T19,"x")=2,R19="X",T19="X"),16,0)))) -> 0 | AS19: =IF(AND(COUNTIF(P19:T19,"x")=4,P19="X",R19="X",S19="X",T19="X"),20,IF(AND(COUNTIF(P19:T19,"x")=3,R19="X",S19="X",T19="X"),20,IF(AND(COUNTIF(P19:T19,"x")=3,P19="X",R19="X",S19="X"),20,0))) -> 0 | AT19: =SUM(AO19:AS19) -> 1 | AU19: 4 | AV19: =IF(OR(U19="",AT19=20,AT19=21),0,IF(OR(AT19=8,AT19=9,AT19=15),0,IF(P19<>"",AA19,0))) -> 0 | AW19: =IF(OR(U19="",AT19=20,AT19=21),0,IF(OR(AT19=8,AT19=9,AT19=15),0,IF(P19<>"",U19,0))) -> 0 | AX19: =IF(OR(AT19=4,AT19=7),AV19,0) -> 0 | AY19: =IF(OR(AT19=11,AT19=17),AV19,0) -> 0 | AZ19: =IF(OR(U19="",AT19=20),0,IF(OR(AT19=4,AT19=5,AT19=6,AT19=7,AT19=3,AT19=1),U19,0)) -> 0 | BA19: =IF(OR(U19="",AT19=20),0,IF(OR(AT19=4,AT19=5,AT19=6,AT19=7,AT19=3,AT19=1),AA19,0)) -> 0 | BB19: =IF(AD19="",0,AD19) -> 0 | BC19: =IF(OR(AT19=20,U19=""),0,IF(OR(AT19=4,AT19=5,AT19=6,AT19=7,AT19=3,AT19=1),N19-BB19,0)) -> 0 | BD19: =IF(OR(U19="",AT19=20),0,IF(OR(AT19=8,AT19=14,AT19=15,AT19=16,AT19=21),U19,0)) -> 0 | BE19: =IF(OR(U19="",AT19=20),0,IF(OR(AT19=8,AT19=14,AT19=15,AT19=16,AT19=21),AA19,0)) -> 0 | BF19: =IF(OR(U19="",AT19=20),0,IF(OR(AT19=8,AT19=14,AT19=15,AT19=16,AT19=21),N19-BB19,0)) -> 0 | BG19: =IF(U19="",0,IF(OR(AT19=9,AT19=20),U19,0)) -> 0 | BH19: =IF(U19="",0,IF(OR(AT19=9,AT19=20),AA19,0)) -> 0 | BI19: =IF(U19="",0,IF(OR(AT19=9,AT19=20),N19-BB19,0)) -> 0 | BJ19: =IF(AT19=20,0,IF(OR(AT19=10,AT19=11,AT19=12,AT19=13,AT19=17,AT19=18),U19,0)) -> 0 | BK19: =IF(OR(U19="",AT19=20),0,IF(OR(AT19=10,AT19=11,AT19=12,AT19=13,AT19=17,AT19=18,),AA19,0)) -> 0 | BL19: =IF(OR(U19="",AT19=20),0,IF(OR(AT19=10,AT19=11,AT19=12,AT19=13,AT19=17,AT19=18),N19-BB19,0)) -> 0 | BN19: =IF(L19<V19,L19,V19) | BO19: =IF(OR(L19="",V19=""),0,L19-V19) -> 0 | BP19: =IF(E19="",0,E19-2) -> 0 | BQ19: =IF(OR(L19="",U19=""),"",IF(AND(E19=1,L19>=45),45,IF(AND(E19=1,L19<45),45,IF(AND(E19=2,L19>60),60,IF(AND(E19=2,L19<60),60,IF(AND(F19=3,L19>72),72,IF(AND(E19>2,BP19*12+60>L19),BP19*12+60,BP19*12+60)))))))
N20: =IF(OR(C20="",L20=""),"",L20*C20) | V20: =IF(OR(L20="",U20="",U20=0),"",IF(AND(OR(E20=1,E20=2),F20=3,L20>=72),72,IF(AND(E20=1,L20>=45),45,IF(AND(E20=1,L20<45),L20,IF(AND(E20=2,L20>60),60,IF(AND(E20=2,L20<60),L20,IF(AND(F20=3,L20>72),72,IF(AND(E20>2,BP20*12+60>L20),L20,BP20*12+60)))))))) | X20: =IF(AND(P20="x",S20="x",T20="x"),"",IF(AND(P20="X",R20="X",S20="X"),"",IF(OR(AT20=8,AT20=9,U20=""),"",IF(OR(AT20=4,AT20=11),BQ20*16/100,"")))) | Z20: =IF(OR(AT20=17,AT20=7),(BQ20*16/100+BQ20+L20-V20)*U20,IF(OR(AT20=16,AT20=15,AT20=8,AT20=13,AT20=1,AT20=9,AT20=20,AT20=21),BQ20*U20,IF(AT20=12,(BQ20+L20-V20)*U20,IF(OR(AT20=4,AT20=11),(BQ20*16/100+BQ20)*U20,IF(AT20=6,(BQ20+L20-V20)*U20,0))))) -> #VALUE! | AA20: =IF(OR(U20="",U20=0,V20=""),"",IF(OR(Z20=0,Z20=""),"",IF(Z20/U20>L20,L20*U20,Z20))) | AC20: =IF(C20="","",IF(C20-U20=0,"",C20-U20)) | AD20: =IF(AC20="","",AC20*L20) | AJ20: 6 | AL20: =L20-BQ20 -> #VALUE! | AM20: =BQ20 | AN20: =SUM(AK20:AM20) -> #VALUE! | AO20: =IF(AND(COUNTIF(P20:T20,"x")=3,P20="X",S20="X",T20="X"),17,IF(COUNTIF(P20:T20,"x")=0,1,0)) -> 1 | AP20: =IF(AND(COUNTIF(P20:T20,"x")=2,P20="x",T20="X"),7,IF(AND(COUNTIF(P20:T20,"x")=1,P20="X"),4,IF(AND(COUNTIF(P20:T20,"x")=1,T20="X"),6,0))) -> 0 | AQ20: =IF(AND(COUNTIF(P20:T20,"x")=2,S20="X",R20="X"),9,IF(AND(COUNTIF(P20:T20,"x")=2,S20="X",P20="X"),11,IF(AND(COUNTIF(P20:T20,"x")=2,S20="X",T20="X"),12,IF(AND(COUNTIF(P20:T20,"x")=1,S20="X"),13,0)))) -> 0 | AR20: =IF(AND(COUNTIF(P20:T20,"x")=3,P20="X",R20="X",T20="X"),21,IF(AND(COUNTIF(P20:T20,"x")=1,R20="X"),8,IF(AND(COUNTIF(P20:T20,"x")=2,R20="X",P20="X"),15,IF(AND(COUNTIF(P20:T20,"x")=2,R20="X",T20="X"),16,0)))) -> 0 | AS20: =IF(AND(COUNTIF(P20:T20,"x")=4,P20="X",R20="X",S20="X",T20="X"),20,IF(AND(COUNTIF(P20:T20,"x")=3,R20="X",S20="X",T20="X"),20,IF(AND(COUNTIF(P20:T20,"x")=3,P20="X",R20="X",S20="X"),20,0))) -> 0 | AT20: =SUM(AO20:AS20) -> 1 | AU20: 5 | AV20: =IF(OR(U20="",AT20=20,AT20=21),0,IF(OR(AT20=8,AT20=9,AT20=15),0,IF(P20<>"",AA20,0))) -> 0 | AW20: =IF(OR(U20="",AT20=20,AT20=21),0,IF(OR(AT20=8,AT20=9,AT20=15),0,IF(P20<>"",U20,0))) -> 0 | AX20: =IF(OR(AT20=4,AT20=7),AV20,0) -> 0 | AY20: =IF(OR(AT20=11,AT20=17),AV20,0) -> 0 | AZ20: =IF(OR(U20="",AT20=20),0,IF(OR(AT20=4,AT20=5,AT20=6,AT20=7,AT20=3,AT20=1),U20,0)) -> 0 | BA20: =IF(OR(U20="",AT20=20),0,IF(OR(AT20=4,AT20=5,AT20=6,AT20=7,AT20=3,AT20=1),AA20,0)) -> 0 | BB20: =IF(AD20="",0,AD20) -> 0 | BC20: =IF(OR(AT20=20,U20=""),0,IF(OR(AT20=4,AT20=5,AT20=6,AT20=7,AT20=3,AT20=1),N20-BB20,0)) -> 0 | BD20: =IF(OR(U20="",AT20=20),0,IF(OR(AT20=8,AT20=14,AT20=15,AT20=16,AT20=21),U20,0)) -> 0 | BE20: =IF(OR(U20="",AT20=20),0,IF(OR(AT20=8,AT20=14,AT20=15,AT20=16,AT20=21),AA20,0)) -> 0 | BF20: =IF(OR(U20="",AT20=20),0,IF(OR(AT20=8,AT20=14,AT20=15,AT20=16,AT20=21),N20-BB20,0)) -> 0 | BG20: =IF(U20="",0,IF(OR(AT20=9,AT20=20),U20,0)) -> 0 | BH20: =IF(U20="",0,IF(OR(AT20=9,AT20=20),AA20,0)) -> 0 | BI20: =IF(U20="",0,IF(OR(AT20=9,AT20=20),N20-BB20,0)) -> 0 | BJ20: =IF(AT20=20,0,IF(OR(AT20=10,AT20=11,AT20=12,AT20=13,AT20=17,AT20=18),U20,0)) -> 0 | BK20: =IF(OR(U20="",AT20=20),0,IF(OR(AT20=10,AT20=11,AT20=12,AT20=13,AT20=17,AT20=18,),AA20,0)) -> 0 | BL20: =IF(OR(U20="",AT20=20),0,IF(OR(AT20=10,AT20=11,AT20=12,AT20=13,AT20=17,AT20=18),N20-BB20,0)) -> 0 | BN20: =IF(L20<V20,L20,V20) | BO20: =IF(OR(L20="",V20=""),0,L20-V20) -> 0 | BP20: =IF(E20="",0,E20-2) -> 0 | BQ20: =IF(OR(L20="",U20=""),"",IF(AND(E20=1,L20>=45),45,IF(AND(E20=1,L20<45),45,IF(AND(E20=2,L20>60),60,IF(AND(E20=2,L20<60),60,IF(AND(F20=3,L20>72),72,IF(AND(E20>2,BP20*12+60>L20),BP20*12+60,BP20*12+60)))))))
N21: =IF(OR(C21="",L21=""),"",L21*C21) | V21: =IF(OR(L21="",U21="",U21=0),"",IF(AND(OR(E21=1,E21=2),F21=3,L21>=72),72,IF(AND(E21=1,L21>=45),45,IF(AND(E21=1,L21<45),L21,IF(AND(E21=2,L21>60),60,IF(AND(E21=2,L21<60),L21,IF(AND(F21=3,L21>72),72,IF(AND(E21>2,BP21*12+60>L21),L21,BP21*12+60)))))))) | X21: =IF(AND(P21="x",S21="x",T21="x"),"",IF(AND(P21="X",R21="X",S21="X"),"",IF(OR(AT21=8,AT21=9,U21=""),"",IF(OR(AT21=4,AT21=11),BQ21*16/100,"")))) | Z21: =IF(OR(AT21=17,AT21=7),(BQ21*16/100+BQ21+L21-V21)*U21,IF(OR(AT21=16,AT21=15,AT21=8,AT21=13,AT21=1,AT21=9,AT21=20,AT21=21),BQ21*U21,IF(AT21=12,(BQ21+L21-V21)*U21,IF(OR(AT21=4,AT21=11),(BQ21*16/100+BQ21)*U21,IF(AT21=6,(BQ21+L21-V21)*U21,0))))) -> #VALUE! | AA21: =IF(OR(U21="",U21=0,V21=""),"",IF(OR(Z21=0,Z21=""),"",IF(Z21/U21>L21,L21*U21,Z21))) | AC21: =IF(C21="","",IF(C21-U21=0,"",C21-U21)) | AD21: =IF(AC21="","",AC21*L21) | AJ21: 9 | AM21: =BQ21 | AN21: =SUM(AK21:AM21) -> 0 | AO21: =IF(AND(COUNTIF(P21:T21,"x")=3,P21="X",S21="X",T21="X"),17,IF(COUNTIF(P21:T21,"x")=0,1,0)) -> 1 | AP21: =IF(AND(COUNTIF(P21:T21,"x")=2,P21="x",T21="X"),7,IF(AND(COUNTIF(P21:T21,"x")=1,P21="X"),4,IF(AND(COUNTIF(P21:T21,"x")=1,T21="X"),6,0))) -> 0 | AQ21: =IF(AND(COUNTIF(P21:T21,"x")=2,S21="X",R21="X"),9,IF(AND(COUNTIF(P21:T21,"x")=2,S21="X",P21="X"),11,IF(AND(COUNTIF(P21:T21,"x")=2,S21="X",T21="X"),12,IF(AND(COUNTIF(P21:T21,"x")=1,S21="X"),13,0)))) -> 0 | AR21: =IF(AND(COUNTIF(P21:T21,"x")=3,P21="X",R21="X",T21="X"),21,IF(AND(COUNTIF(P21:T21,"x")=1,R21="X"),8,IF(AND(COUNTIF(P21:T21,"x")=2,R21="X",P21="X"),15,IF(AND(COUNTIF(P21:T21,"x")=2,R21="X",T21="X"),16,0)))) -> 0 | AS21: =IF(AND(COUNTIF(P21:T21,"x")=4,P21="X",R21="X",S21="X",T21="X"),20,IF(AND(COUNTIF(P21:T21,"x")=3,R21="X",S21="X",T21="X"),20,IF(AND(COUNTIF(P21:T21,"x")=3,P21="X",R21="X",S21="X"),20,0))) -> 0 | AT21: =SUM(AO21:AS21) -> 1 | AU21: 6 | AV21: =IF(OR(U21="",AT21=20,AT21=21),0,IF(OR(AT21=8,AT21=9,AT21=15),0,IF(P21<>"",AA21,0))) -> 0 | AW21: =IF(OR(U21="",AT21=20,AT21=21),0,IF(OR(AT21=8,AT21=9,AT21=15),0,IF(P21<>"",U21,0))) -> 0 | AX21: =IF(OR(AT21=4,AT21=7),AV21,0) -> 0 | AY21: =IF(OR(AT21=11,AT21=17),AV21,0) -> 0 | AZ21: =IF(OR(U21="",AT21=20),0,IF(OR(AT21=4,AT21=5,AT21=6,AT21=7,AT21=3,AT21=1),U21,0)) -> 0 | BA21: =IF(OR(U21="",AT21=20),0,IF(OR(AT21=4,AT21=5,AT21=6,AT21=7,AT21=3,AT21=1),AA21,0)) -> 0 | BB21: =IF(AD21="",0,AD21) -> 0 | BC21: =IF(OR(AT21=20,U21=""),0,IF(OR(AT21=4,AT21=5,AT21=6,AT21=7,AT21=3,AT21=1),N21-BB21,0)) -> 0 | BD21: =IF(OR(U21="",AT21=20),0,IF(OR(AT21=8,AT21=14,AT21=15,AT21=16,AT21=21),U21,0)) -> 0 | BE21: =IF(OR(U21="",AT21=20),0,IF(OR(AT21=8,AT21=14,AT21=15,AT21=16,AT21=21),AA21,0)) -> 0 | BF21: =IF(OR(U21="",AT21=20),0,IF(OR(AT21=8,AT21=14,AT21=15,AT21=16,AT21=21),N21-BB21,0)) -> 0 | BG21: =IF(U21="",0,IF(OR(AT21=9,AT21=20),U21,0)) -> 0 | BH21: =IF(U21="",0,IF(OR(AT21=9,AT21=20),AA21,0)) -> 0 | BI21: =IF(U21="",0,IF(OR(AT21=9,AT21=20),N21-BB21,0)) -> 0 | BJ21: =IF(AT21=20,0,IF(OR(AT21=10,AT21=11,AT21=12,AT21=13,AT21=17,AT21=18),U21,0)) -> 0 | BK21: =IF(OR(U21="",AT21=20),0,IF(OR(AT21=10,AT21=11,AT21=12,AT21=13,AT21=17,AT21=18,),AA21,0)) -> 0 | BL21: =IF(OR(U21="",AT21=20),0,IF(OR(AT21=10,AT21=11,AT21=12,AT21=13,AT21=17,AT21=18),N21-BB21,0)) -> 0 | BN21: =IF(L21<V21,L21,V21) | BO21: =IF(OR(L21="",V21=""),0,L21-V21) -> 0 | BP21: =IF(E21="",0,E21-2) -> 0 | BQ21: =IF(OR(L21="",U21=""),"",IF(AND(E21=1,L21>=45),45,IF(AND(E21=1,L21<45),45,IF(AND(E21=2,L21>60),60,IF(AND(E21=2,L21<60),60,IF(AND(F21=3,L21>72),72,IF(AND(E21>2,BP21*12+60>L21),BP21*12+60,BP21*12+60)))))))
N22: =IF(OR(C22="",L22=""),"",L22*C22) | V22: =IF(OR(L22="",U22="",U22=0),"",IF(AND(OR(E22=1,E22=2),F22=3,L22>=72),72,IF(AND(E22=1,L22>=45),45,IF(AND(E22=1,L22<45),L22,IF(AND(E22=2,L22>60),60,IF(AND(E22=2,L22<60),L22,IF(AND(F22=3,L22>72),72,IF(AND(E22>2,BP22*12+60>L22),L22,BP22*12+60)))))))) | X22: =IF(AND(P22="x",S22="x",T22="x"),"",IF(AND(P22="X",R22="X",S22="X"),"",IF(OR(AT22=8,AT22=9,U22=""),"",IF(OR(AT22=4,AT22=11),BQ22*16/100,"")))) | Z22: =IF(OR(AT22=17,AT22=7),(BQ22*16/100+BQ22+L22-V22)*U22,IF(OR(AT22=16,AT22=15,AT22=8,AT22=13,AT22=1,AT22=9,AT22=20,AT22=21),BQ22*U22,IF(AT22=12,(BQ22+L22-V22)*U22,IF(OR(AT22=4,AT22=11),(BQ22*16/100+BQ22)*U22,IF(AT22=6,(BQ22+L22-V22)*U22,0))))) -> #VALUE! | AA22: =IF(OR(U22="",U22=0,V22=""),"",IF(OR(Z22=0,Z22=""),"",IF(Z22/U22>L22,L22*U22,Z22))) | AC22: =IF(C22="","",IF(C22-U22=0,"",C22-U22)) | AD22: =IF(AC22="","",AC22*L22) | AJ22: 11 | AK22: =BQ22*16/100 -> #VALUE! | AM22: =BQ22 | AN22: =SUM(AK22:AM22) -> #VALUE! | AO22: =IF(AND(COUNTIF(P22:T22,"x")=3,P22="X",S22="X",T22="X"),17,IF(COUNTIF(P22:T22,"x")=0,1,0)) -> 1 | AP22: =IF(AND(COUNTIF(P22:T22,"x")=2,P22="x",T22="X"),7,IF(AND(COUNTIF(P22:T22,"x")=1,P22="X"),4,IF(AND(COUNTIF(P22:T22,"x")=1,T22="X"),6,0))) -> 0 | AQ22: =IF(AND(COUNTIF(P22:T22,"x")=2,S22="X",R22="X"),9,IF(AND(COUNTIF(P22:T22,"x")=2,S22="X",P22="X"),11,IF(AND(COUNTIF(P22:T22,"x")=2,S22="X",T22="X"),12,IF(AND(COUNTIF(P22:T22,"x")=1,S22="X"),13,0)))) -> 0 | AR22: =IF(AND(COUNTIF(P22:T22,"x")=3,P22="X",R22="X",T22="X"),21,IF(AND(COUNTIF(P22:T22,"x")=1,R22="X"),8,IF(AND(COUNTIF(P22:T22,"x")=2,R22="X",P22="X"),15,IF(AND(COUNTIF(P22:T22,"x")=2,R22="X",T22="X"),16,0)))) -> 0 | AS22: =IF(AND(COUNTIF(P22:T22,"x")=4,P22="X",R22="X",S22="X",T22="X"),20,IF(AND(COUNTIF(P22:T22,"x")=3,R22="X",S22="X",T22="X"),20,IF(AND(COUNTIF(P22:T22,"x")=3,P22="X",R22="X",S22="X"),20,0))) -> 0 | AT22: =SUM(AO22:AS22) -> 1 | AU22: 7 | AV22: =IF(OR(U22="",AT22=20,AT22=21),0,IF(OR(AT22=8,AT22=9,AT22=15),0,IF(P22<>"",AA22,0))) -> 0 | AW22: =IF(OR(U22="",AT22=20,AT22=21),0,IF(OR(AT22=8,AT22=9,AT22=15),0,IF(P22<>"",U22,0))) -> 0 | AX22: =IF(OR(AT22=4,AT22=7),AV22,0) -> 0 | AY22: =IF(OR(AT22=11,AT22=17),AV22,0) -> 0 | AZ22: =IF(OR(U22="",AT22=20),0,IF(OR(AT22=4,AT22=5,AT22=6,AT22=7,AT22=3,AT22=1),U22,0)) -> 0 | BA22: =IF(OR(U22="",AT22=20),0,IF(OR(AT22=4,AT22=5,AT22=6,AT22=7,AT22=3,AT22=1),AA22,0)) -> 0 | BB22: =IF(AD22="",0,AD22) -> 0 | BC22: =IF(OR(AT22=20,U22=""),0,IF(OR(AT22=4,AT22=5,AT22=6,AT22=7,AT22=3,AT22=1),N22-BB22,0)) -> 0 | BD22: =IF(OR(U22="",AT22=20),0,IF(OR(AT22=8,AT22=14,AT22=15,AT22=16,AT22=21),U22,0)) -> 0 | BE22: =IF(OR(U22="",AT22=20),0,IF(OR(AT22=8,AT22=14,AT22=15,AT22=16,AT22=21),AA22,0)) -> 0 | BF22: =IF(OR(U22="",AT22=20),0,IF(OR(AT22=8,AT22=14,AT22=15,AT22=16,AT22=21),N22-BB22,0)) -> 0 | BG22: =IF(U22="",0,IF(OR(AT22=9,AT22=20),U22,0)) -> 0 | BH22: =IF(U22="",0,IF(OR(AT22=9,AT22=20),AA22,0)) -> 0 | BI22: =IF(U22="",0,IF(OR(AT22=9,AT22=20),N22-BB22,0)) -> 0 | BJ22: =IF(AT22=20,0,IF(OR(AT22=10,AT22=11,AT22=12,AT22=13,AT22=17,AT22=18),U22,0)) -> 0 | BK22: =IF(OR(U22="",AT22=20),0,IF(OR(AT22=10,AT22=11,AT22=12,AT22=13,AT22=17,AT22=18,),AA22,0)) -> 0 | BL22: =IF(OR(U22="",AT22=20),0,IF(OR(AT22=10,AT22=11,AT22=12,AT22=13,AT22=17,AT22=18),N22-BB22,0)) -> 0 | BN22: =IF(L22<V22,L22,V22) | BO22: =IF(OR(L22="",V22=""),0,L22-V22) -> 0 | BP22: =IF(E22="",0,E22-2) -> 0 | BQ22: =IF(OR(L22="",U22=""),"",IF(AND(E22=1,L22>=45),45,IF(AND(E22=1,L22<45),45,IF(AND(E22=2,L22>60),60,IF(AND(E22=2,L22<60),60,IF(AND(F22=3,L22>72),72,IF(AND(E22>2,BP22*12+60>L22),BP22*12+60,BP22*12+60)))))))
N23: =IF(OR(C23="",L23=""),"",L23*C23) | V23: =IF(OR(L23="",U23="",U23=0),"",IF(AND(OR(E23=1,E23=2),F23=3,L23>=72),72,IF(AND(E23=1,L23>=45),45,IF(AND(E23=1,L23<45),L23,IF(AND(E23=2,L23>60),60,IF(AND(E23=2,L23<60),L23,IF(AND(F23=3,L23>72),72,IF(AND(E23>2,BP23*12+60>L23),L23,BP23*12+60)))))))) | X23: =IF(AND(P23="x",S23="x",T23="x"),"",IF(AND(P23="X",R23="X",S23="X"),"",IF(OR(AT23=8,AT23=9,U23=""),"",IF(OR(AT23=4,AT23=11),BQ23*16/100,"")))) | Z23: =IF(OR(AT23=17,AT23=7),(BQ23*16/100+BQ23+L23-V23)*U23,IF(OR(AT23=16,AT23=15,AT23=8,AT23=13,AT23=1,AT23=9,AT23=20,AT23=21),BQ23*U23,IF(AT23=12,(BQ23+L23-V23)*U23,IF(OR(AT23=4,AT23=11),(BQ23*16/100+BQ23)*U23,IF(AT23=6,(BQ23+L23-V23)*U23,0))))) -> #VALUE! | AA23: =IF(OR(U23="",U23=0,V23=""),"",IF(OR(Z23=0,Z23=""),"",IF(Z23/U23>L23,L23*U23,Z23))) | AC23: =IF(C23="","",IF(C23-U23=0,"",C23-U23)) | AD23: =IF(AC23="","",AC23*L23) | AJ23: 1 | AM23: =BQ23 | AN23: =SUM(AK23:AM23) -> 0 | AO23: =IF(AND(COUNTIF(P23:T23,"x")=3,P23="X",S23="X",T23="X"),17,IF(COUNTIF(P23:T23,"x")=0,1,0)) -> 1 | AP23: =IF(AND(COUNTIF(P23:T23,"x")=2,P23="x",T23="X"),7,IF(AND(COUNTIF(P23:T23,"x")=1,P23="X"),4,IF(AND(COUNTIF(P23:T23,"x")=1,T23="X"),6,0))) -> 0 | AQ23: =IF(AND(COUNTIF(P23:T23,"x")=2,S23="X",R23="X"),9,IF(AND(COUNTIF(P23:T23,"x")=2,S23="X",P23="X"),11,IF(AND(COUNTIF(P23:T23,"x")=2,S23="X",T23="X"),12,IF(AND(COUNTIF(P23:T23,"x")=1,S23="X"),13,0)))) -> 0 | AR23: =IF(AND(COUNTIF(P23:T23,"x")=3,P23="X",R23="X",T23="X"),21,IF(AND(COUNTIF(P23:T23,"x")=1,R23="X"),8,IF(AND(COUNTIF(P23:T23,"x")=2,R23="X",P23="X"),15,IF(AND(COUNTIF(P23:T23,"x")=2,R23="X",T23="X"),16,0)))) -> 0 | AS23: =IF(AND(COUNTIF(P23:T23,"x")=4,P23="X",R23="X",S23="X",T23="X"),20,IF(AND(COUNTIF(P23:T23,"x")=3,R23="X",S23="X",T23="X"),20,IF(AND(COUNTIF(P23:T23,"x")=3,P23="X",R23="X",S23="X"),20,0))) -> 0 | AT23: =SUM(AO23:AS23) -> 1 | AU23: 8 | AV23: =IF(OR(U23="",AT23=20,AT23=21),0,IF(OR(AT23=8,AT23=9,AT23=15),0,IF(P23<>"",AA23,0))) -> 0 | AW23: =IF(OR(U23="",AT23=20,AT23=21),0,IF(OR(AT23=8,AT23=9,AT23=15),0,IF(P23<>"",U23,0))) -> 0 | AX23: =IF(OR(AT23=4,AT23=7),AV23,0) -> 0 | AY23: =IF(OR(AT23=11,AT23=17),AV23,0) -> 0 | AZ23: =IF(OR(U23="",AT23=20),0,IF(OR(AT23=4,AT23=5,AT23=6,AT23=7,AT23=3,AT23=1),U23,0)) -> 0 | BA23: =IF(OR(U23="",AT23=20),0,IF(OR(AT23=4,AT23=5,AT23=6,AT23=7,AT23=3,AT23=1),AA23,0)) -> 0 | BB23: =IF(AD23="",0,AD23) -> 0 | BC23: =IF(OR(AT23=20,U23=""),0,IF(OR(AT23=4,AT23=5,AT23=6,AT23=7,AT23=3,AT23=1),N23-BB23,0)) -> 0 | BD23: =IF(OR(U23="",AT23=20),0,IF(OR(AT23=8,AT23=14,AT23=15,AT23=16,AT23=21),U23,0)) -> 0 | BE23: =IF(OR(U23="",AT23=20),0,IF(OR(AT23=8,AT23=14,AT23=15,AT23=16,AT23=21),AA23,0)) -> 0 | BF23: =IF(OR(U23="",AT23=20),0,IF(OR(AT23=8,AT23=14,AT23=15,AT23=16,AT23=21),N23-BB23,0)) -> 0 | BG23: =IF(U23="",0,IF(OR(AT23=9,AT23=20),U23,0)) -> 0 | BH23: =IF(U23="",0,IF(OR(AT23=9,AT23=20),AA23,0)) -> 0 | BI23: =IF(U23="",0,IF(OR(AT23=9,AT23=20),N23-BB23,0)) -> 0 | BJ23: =IF(AT23=20,0,IF(OR(AT23=10,AT23=11,AT23=12,AT23=13,AT23=17,AT23=18),U23,0)) -> 0 | BK23: =IF(OR(U23="",AT23=20),0,IF(OR(AT23=10,AT23=11,AT23=12,AT23=13,AT23=17,AT23=18,),AA23,0)) -> 0 | BL23: =IF(OR(U23="",AT23=20),0,IF(OR(AT23=10,AT23=11,AT23=12,AT23=13,AT23=17,AT23=18),N23-BB23,0)) -> 0 | BN23: =IF(L23<V23,L23,V23) | BO23: =IF(OR(L23="",V23=""),0,L23-V23) -> 0 | BP23: =IF(E23="",0,E23-2) -> 0 | BQ23: =IF(OR(L23="",U23=""),"",IF(AND(E23=1,L23>=45),45,IF(AND(E23=1,L23<45),45,IF(AND(E23=2,L23>60),60,IF(AND(E23=2,L23<60),60,IF(AND(F23=3,L23>72),72,IF(AND(E23>2,BP23*12+60>L23),BP23*12+60,BP23*12+60)))))))
N24: =IF(OR(C24="",L24=""),"",L24*C24) | V24: =IF(OR(L24="",U24="",U24=0),"",IF(AND(OR(E24=1,E24=2),F24=3,L24>=72),72,IF(AND(E24=1,L24>=45),45,IF(AND(E24=1,L24<45),L24,IF(AND(E24=2,L24>60),60,IF(AND(E24=2,L24<60),L24,IF(AND(F24=3,L24>72),72,IF(AND(E24>2,BP24*12+60>L24),L24,BP24*12+60)))))))) | X24: =IF(AND(P24="x",S24="x",T24="x"),"",IF(AND(P24="X",R24="X",S24="X"),"",IF(OR(AT24=8,AT24=9,U24=""),"",IF(OR(AT24=4,AT24=11),BQ24*16/100,"")))) | Z24: =IF(OR(AT24=17,AT24=7),(BQ24*16/100+BQ24+L24-V24)*U24,IF(OR(AT24=16,AT24=15,AT24=8,AT24=13,AT24=1,AT24=9,AT24=20,AT24=21),BQ24*U24,IF(AT24=12,(BQ24+L24-V24)*U24,IF(OR(AT24=4,AT24=11),(BQ24*16/100+BQ24)*U24,IF(AT24=6,(BQ24+L24-V24)*U24,0))))) -> #VALUE! | AA24: =IF(OR(U24="",U24=0,V24=""),"",IF(OR(Z24=0,Z24=""),"",IF(Z24/U24>L24,L24*U24,Z24))) | AC24: =IF(C24="","",IF(C24-U24=0,"",C24-U24)) | AD24: =IF(AC24="","",AC24*L24) | AJ24: 13 | AM24: =BQ24 | AN24: =SUM(AK24:AM24) -> 0 | AO24: =IF(AND(COUNTIF(P24:T24,"x")=3,P24="X",S24="X",T24="X"),17,IF(COUNTIF(P24:T24,"x")=0,1,0)) -> 1 | AP24: =IF(AND(COUNTIF(P24:T24,"x")=2,P24="x",T24="X"),7,IF(AND(COUNTIF(P24:T24,"x")=1,P24="X"),4,IF(AND(COUNTIF(P24:T24,"x")=1,T24="X"),6,0))) -> 0 | AQ24: =IF(AND(COUNTIF(P24:T24,"x")=2,S24="X",R24="X"),9,IF(AND(COUNTIF(P24:T24,"x")=2,S24="X",P24="X"),11,IF(AND(COUNTIF(P24:T24,"x")=2,S24="X",T24="X"),12,IF(AND(COUNTIF(P24:T24,"x")=1,S24="X"),13,0)))) -> 0 | AR24: =IF(AND(COUNTIF(P24:T24,"x")=3,P24="X",R24="X",T24="X"),21,IF(AND(COUNTIF(P24:T24,"x")=1,R24="X"),8,IF(AND(COUNTIF(P24:T24,"x")=2,R24="X",P24="X"),15,IF(AND(COUNTIF(P24:T24,"x")=2,R24="X",T24="X"),16,0)))) -> 0 | AS24: =IF(AND(COUNTIF(P24:T24,"x")=4,P24="X",R24="X",S24="X",T24="X"),20,IF(AND(COUNTIF(P24:T24,"x")=3,R24="X",S24="X",T24="X"),20,IF(AND(COUNTIF(P24:T24,"x")=3,P24="X",R24="X",S24="X"),20,0))) -> 0 | AT24: =SUM(AO24:AS24) -> 1 | AU24: 9 | AV24: =IF(OR(U24="",AT24=20,AT24=21),0,IF(OR(AT24=8,AT24=9,AT24=15),0,IF(P24<>"",AA24,0))) -> 0 | AW24: =IF(OR(U24="",AT24=20,AT24=21),0,IF(OR(AT24=8,AT24=9,AT24=15),0,IF(P24<>"",U24,0))) -> 0 | AX24: =IF(OR(AT24=4,AT24=7),AV24,0) -> 0 | AY24: =IF(OR(AT24=11,AT24=17),AV24,0) -> 0 | AZ24: =IF(OR(U24="",AT24=20),0,IF(OR(AT24=4,AT24=5,AT24=6,AT24=7,AT24=3,AT24=1),U24,0)) -> 0 | BA24: =IF(OR(U24="",AT24=20),0,IF(OR(AT24=4,AT24=5,AT24=6,AT24=7,AT24=3,AT24=1),AA24,0)) -> 0 | BB24: =IF(AD24="",0,AD24) -> 0 | BC24: =IF(OR(AT24=20,U24=""),0,IF(OR(AT24=4,AT24=5,AT24=6,AT24=7,AT24=3,AT24=1),N24-BB24,0)) -> 0 | BD24: =IF(OR(U24="",AT24=20),0,IF(OR(AT24=8,AT24=14,AT24=15,AT24=16,AT24=21),U24,0)) -> 0 | BE24: =IF(OR(U24="",AT24=20),0,IF(OR(AT24=8,AT24=14,AT24=15,AT24=16,AT24=21),AA24,0)) -> 0 | BF24: =IF(OR(U24="",AT24=20),0,IF(OR(AT24=8,AT24=14,AT24=15,AT24=16,AT24=21),N24-BB24,0)) -> 0 | BG24: =IF(U24="",0,IF(OR(AT24=9,AT24=20),U24,0)) -> 0 | BH24: =IF(U24="",0,IF(OR(AT24=9,AT24=20),AA24,0)) -> 0 | BI24: =IF(U24="",0,IF(OR(AT24=9,AT24=20),N24-BB24,0)) -> 0 | BJ24: =IF(AT24=20,0,IF(OR(AT24=10,AT24=11,AT24=12,AT24=13,AT24=17,AT24=18),U24,0)) -> 0 | BK24: =IF(OR(U24="",AT24=20),0,IF(OR(AT24=10,AT24=11,AT24=12,AT24=13,AT24=17,AT24=18,),AA24,0)) -> 0 | BL24: =IF(OR(U24="",AT24=20),0,IF(OR(AT24=10,AT24=11,AT24=12,AT24=13,AT24=17,AT24=18),N24-BB24,0)) -> 0 | BN24: =IF(L24<V24,L24,V24) | BO24: =IF(OR(L24="",V24=""),0,L24-V24) -> 0 | BP24: =IF(E24="",0,E24-2) -> 0 | BQ24: =IF(OR(L24="",U24=""),"",IF(AND(E24=1,L24>=45),45,IF(AND(E24=1,L24<45),45,IF(AND(E24=2,L24>60),60,IF(AND(E24=2,L24<60),60,IF(AND(F24=3,L24>72),72,IF(AND(E24>2,BP24*12+60>L24),BP24*12+60,BP24*12+60)))))))
N25: =IF(OR(C25="",L25=""),"",L25*C25) | V25: =IF(OR(L25="",U25="",U25=0),"",IF(AND(OR(E25=1,E25=2),F25=3,L25>=72),72,IF(AND(E25=1,L25>=45),45,IF(AND(E25=1,L25<45),L25,IF(AND(E25=2,L25>60),60,IF(AND(E25=2,L25<60),L25,IF(AND(F25=3,L25>72),72,IF(AND(E25>2,BP25*12+60>L25),L25,BP25*12+60)))))))) | X25: =IF(AND(P25="x",S25="x",T25="x"),"",IF(AND(P25="X",R25="X",S25="X"),"",IF(OR(AT25=8,AT25=9,U25=""),"",IF(OR(AT25=4,AT25=11),BQ25*16/100,"")))) | Z25: =IF(OR(AT25=17,AT25=7),(BQ25*16/100+BQ25+L25-V25)*U25,IF(OR(AT25=16,AT25=15,AT25=8,AT25=13,AT25=1,AT25=9,AT25=20,AT25=21),BQ25*U25,IF(AT25=12,(BQ25+L25-V25)*U25,IF(OR(AT25=4,AT25=11),(BQ25*16/100+BQ25)*U25,IF(AT25=6,(BQ25+L25-V25)*U25,0))))) -> #VALUE! | AA25: =IF(OR(U25="",U25=0,V25=""),"",IF(OR(Z25=0,Z25=""),"",IF(Z25/U25>L25,L25*U25,Z25))) | AC25: =IF(C25="","",IF(C25-U25=0,"",C25-U25)) | AD25: =IF(AC25="","",AC25*L25) | AJ25: 8 | AM25: =BQ25 | AN25: =SUM(AK25:AM25) -> 0 | AO25: =IF(AND(COUNTIF(P25:T25,"x")=3,P25="X",S25="X",T25="X"),17,IF(COUNTIF(P25:T25,"x")=0,1,0)) -> 1 | AP25: =IF(AND(COUNTIF(P25:T25,"x")=2,P25="x",T25="X"),7,IF(AND(COUNTIF(P25:T25,"x")=1,P25="X"),4,IF(AND(COUNTIF(P25:T25,"x")=1,T25="X"),6,0))) -> 0 | AQ25: =IF(AND(COUNTIF(P25:T25,"x")=2,S25="X",R25="X"),9,IF(AND(COUNTIF(P25:T25,"x")=2,S25="X",P25="X"),11,IF(AND(COUNTIF(P25:T25,"x")=2,S25="X",T25="X"),12,IF(AND(COUNTIF(P25:T25,"x")=1,S25="X"),13,0)))) -> 0 | AR25: =IF(AND(COUNTIF(P25:T25,"x")=3,P25="X",R25="X",T25="X"),21,IF(AND(COUNTIF(P25:T25,"x")=1,R25="X"),8,IF(AND(COUNTIF(P25:T25,"x")=2,R25="X",P25="X"),15,IF(AND(COUNTIF(P25:T25,"x")=2,R25="X",T25="X"),16,0)))) -> 0 | AS25: =IF(AND(COUNTIF(P25:T25,"x")=4,P25="X",R25="X",S25="X",T25="X"),20,IF(AND(COUNTIF(P25:T25,"x")=3,R25="X",S25="X",T25="X"),20,IF(AND(COUNTIF(P25:T25,"x")=3,P25="X",R25="X",S25="X"),20,0))) -> 0 | AT25: =SUM(AO25:AS25) -> 1 | AU25: 10 | AV25: =IF(OR(U25="",AT25=20,AT25=21),0,IF(OR(AT25=8,AT25=9,AT25=15),0,IF(P25<>"",AA25,0))) -> 0 | AW25: =IF(OR(U25="",AT25=20,AT25=21),0,IF(OR(AT25=8,AT25=9,AT25=15),0,IF(P25<>"",U25,0))) -> 0 | AX25: =IF(OR(AT25=4,AT25=7),AV25,0) -> 0 | AY25: =IF(OR(AT25=11,AT25=17),AV25,0) -> 0 | AZ25: =IF(OR(U25="",AT25=20),0,IF(OR(AT25=4,AT25=5,AT25=6,AT25=7,AT25=3,AT25=1),U25,0)) -> 0 | BA25: =IF(OR(U25="",AT25=20),0,IF(OR(AT25=4,AT25=5,AT25=6,AT25=7,AT25=3,AT25=1),AA25,0)) -> 0 | BB25: =IF(AD25="",0,AD25) -> 0 | BC25: =IF(OR(AT25=20,U25=""),0,IF(OR(AT25=4,AT25=5,AT25=6,AT25=7,AT25=3,AT25=1),N25-BB25,0)) -> 0 | BD25: =IF(OR(U25="",AT25=20),0,IF(OR(AT25=8,AT25=14,AT25=15,AT25=16,AT25=21),U25,0)) -> 0 | BE25: =IF(OR(U25="",AT25=20),0,IF(OR(AT25=8,AT25=14,AT25=15,AT25=16,AT25=21),AA25,0)) -> 0 | BF25: =IF(OR(U25="",AT25=20),0,IF(OR(AT25=8,AT25=14,AT25=15,AT25=16,AT25=21),N25-BB25,0)) -> 0 | BG25: =IF(U25="",0,IF(OR(AT25=9,AT25=20),U25,0)) -> 0 | BH25: =IF(U25="",0,IF(OR(AT25=9,AT25=20),AA25,0)) -> 0 | BI25: =IF(U25="",0,IF(OR(AT25=9,AT25=20),N25-BB25,0)) -> 0 | BJ25: =IF(AT25=20,0,IF(OR(AT25=10,AT25=11,AT25=12,AT25=13,AT25=17,AT25=18),U25,0)) -> 0 | BK25: =IF(OR(U25="",AT25=20),0,IF(OR(AT25=10,AT25=11,AT25=12,AT25=13,AT25=17,AT25=18,),AA25,0)) -> 0 | BL25: =IF(OR(U25="",AT25=20),0,IF(OR(AT25=10,AT25=11,AT25=12,AT25=13,AT25=17,AT25=18),N25-BB25,0)) -> 0 | BN25: =IF(L25<V25,L25,V25) | BO25: =IF(OR(L25="",V25=""),0,L25-V25) -> 0 | BP25: =IF(E25="",0,E25-2) -> 0 | BQ25: =IF(OR(L25="",U25=""),"",IF(AND(E25=1,L25>=45),45,IF(AND(E25=1,L25<45),45,IF(AND(E25=2,L25>60),60,IF(AND(E25=2,L25<60),60,IF(AND(F25=3,L25>72),72,IF(AND(E25>2,BP25*12+60>L25),BP25*12+60,BP25*12+60)))))))
N26: =IF(OR(C26="",L26=""),"",L26*C26) | V26: =IF(OR(L26="",U26="",U26=0),"",IF(AND(OR(E26=1,E26=2),F26=3,L26>=72),72,IF(AND(E26=1,L26>=45),45,IF(AND(E26=1,L26<45),L26,IF(AND(E26=2,L26>60),60,IF(AND(E26=2,L26<60),L26,IF(AND(F26=3,L26>72),72,IF(AND(E26>2,BP26*12+60>L26),L26,BP26*12+60)))))))) | X26: =IF(AND(P26="x",S26="x",T26="x"),"",IF(AND(P26="X",R26="X",S26="X"),"",IF(OR(AT26=8,AT26=9,U26=""),"",IF(OR(AT26=4,AT26=11),BQ26*16/100,"")))) | Z26: =IF(OR(AT26=17,AT26=7),(BQ26*16/100+BQ26+L26-V26)*U26,IF(OR(AT26=16,AT26=15,AT26=8,AT26=13,AT26=1,AT26=9,AT26=20,AT26=21),BQ26*U26,IF(AT26=12,(BQ26+L26-V26)*U26,IF(OR(AT26=4,AT26=11),(BQ26*16/100+BQ26)*U26,IF(AT26=6,(BQ26+L26-V26)*U26,0))))) -> #VALUE! | AA26: =IF(OR(U26="",U26=0,V26=""),"",IF(OR(Z26=0,Z26=""),"",IF(Z26/U26>L26,L26*U26,Z26))) | AC26: =IF(C26="","",IF(C26-U26=0,"",C26-U26)) | AD26: =IF(AC26="","",AC26*L26) | AJ26: 15 | AM26: =BQ26 | AN26: =SUM(AK26:AM26) -> 0 | AO26: =IF(AND(COUNTIF(P26:T26,"x")=3,P26="X",S26="X",T26="X"),17,IF(COUNTIF(P26:T26,"x")=0,1,0)) -> 1 | AP26: =IF(AND(COUNTIF(P26:T26,"x")=2,P26="x",T26="X"),7,IF(AND(COUNTIF(P26:T26,"x")=1,P26="X"),4,IF(AND(COUNTIF(P26:T26,"x")=1,T26="X"),6,0))) -> 0 | AQ26: =IF(AND(COUNTIF(P26:T26,"x")=2,S26="X",R26="X"),9,IF(AND(COUNTIF(P26:T26,"x")=2,S26="X",P26="X"),11,IF(AND(COUNTIF(P26:T26,"x")=2,S26="X",T26="X"),12,IF(AND(COUNTIF(P26:T26,"x")=1,S26="X"),13,0)))) -> 0 | AR26: =IF(AND(COUNTIF(P26:T26,"x")=3,P26="X",R26="X",T26="X"),21,IF(AND(COUNTIF(P26:T26,"x")=1,R26="X"),8,IF(AND(COUNTIF(P26:T26,"x")=2,R26="X",P26="X"),15,IF(AND(COUNTIF(P26:T26,"x")=2,R26="X",T26="X"),16,0)))) -> 0 | AS26: =IF(AND(COUNTIF(P26:T26,"x")=4,P26="X",R26="X",S26="X",T26="X"),20,IF(AND(COUNTIF(P26:T26,"x")=3,R26="X",S26="X",T26="X"),20,IF(AND(COUNTIF(P26:T26,"x")=3,P26="X",R26="X",S26="X"),20,0))) -> 0 | AT26: =SUM(AO26:AS26) -> 1 | AU26: 11 | AV26: =IF(OR(U26="",AT26=20,AT26=21),0,IF(OR(AT26=8,AT26=9,AT26=15),0,IF(P26<>"",AA26,0))) -> 0 | AW26: =IF(OR(U26="",AT26=20,AT26=21),0,IF(OR(AT26=8,AT26=9,AT26=15),0,IF(P26<>"",U26,0))) -> 0 | AX26: =IF(OR(AT26=4,AT26=7),AV26,0) -> 0 | AY26: =IF(OR(AT26=11,AT26=17),AV26,0) -> 0 | AZ26: =IF(OR(U26="",AT26=20),0,IF(OR(AT26=4,AT26=5,AT26=6,AT26=7,AT26=3,AT26=1),U26,0)) -> 0 | BA26: =IF(OR(U26="",AT26=20),0,IF(OR(AT26=4,AT26=5,AT26=6,AT26=7,AT26=3,AT26=1),AA26,0)) -> 0 | BB26: =IF(AD26="",0,AD26) -> 0 | BC26: =IF(OR(AT26=20,U26=""),0,IF(OR(AT26=4,AT26=5,AT26=6,AT26=7,AT26=3,AT26=1),N26-BB26,0)) -> 0 | BD26: =IF(OR(U26="",AT26=20),0,IF(OR(AT26=8,AT26=14,AT26=15,AT26=16,AT26=21),U26,0)) -> 0 | BE26: =IF(OR(U26="",AT26=20),0,IF(OR(AT26=8,AT26=14,AT26=15,AT26=16,AT26=21),AA26,0)) -> 0 | BF26: =IF(OR(U26="",AT26=20),0,IF(OR(AT26=8,AT26=14,AT26=15,AT26=16,AT26=21),N26-BB26,0)) -> 0 | BG26: =IF(U26="",0,IF(OR(AT26=9,AT26=20),U26,0)) -> 0 | BH26: =IF(U26="",0,IF(OR(AT26=9,AT26=20),AA26,0)) -> 0 | BI26: =IF(U26="",0,IF(OR(AT26=9,AT26=20),N26-BB26,0)) -> 0 | BJ26: =IF(AT26=20,0,IF(OR(AT26=10,AT26=11,AT26=12,AT26=13,AT26=17,AT26=18),U26,0)) -> 0 | BK26: =IF(OR(U26="",AT26=20),0,IF(OR(AT26=10,AT26=11,AT26=12,AT26=13,AT26=17,AT26=18,),AA26,0)) -> 0 | BL26: =IF(OR(U26="",AT26=20),0,IF(OR(AT26=10,AT26=11,AT26=12,AT26=13,AT26=17,AT26=18),N26-BB26,0)) -> 0 | BN26: =IF(L26<V26,L26,V26) | BO26: =IF(OR(L26="",V26=""),0,L26-V26) -> 0 | BP26: =IF(E26="",0,E26-2) -> 0 | BQ26: =IF(OR(L26="",U26=""),"",IF(AND(E26=1,L26>=45),45,IF(AND(E26=1,L26<45),45,IF(AND(E26=2,L26>60),60,IF(AND(E26=2,L26<60),60,IF(AND(F26=3,L26>72),72,IF(AND(E26>2,BP26*12+60>L26),BP26*12+60,BP26*12+60)))))))
N27: =IF(OR(C27="",L27=""),"",L27*C27) | V27: =IF(OR(L27="",U27="",U27=0),"",IF(AND(OR(E27=1,E27=2),F27=3,L27>=72),72,IF(AND(E27=1,L27>=45),45,IF(AND(E27=1,L27<45),L27,IF(AND(E27=2,L27>60),60,IF(AND(E27=2,L27<60),L27,IF(AND(F27=3,L27>72),72,IF(AND(E27>2,BP27*12+60>L27),L27,BP27*12+60)))))))) | X27: =IF(AND(P27="x",S27="x",T27="x"),"",IF(AND(P27="X",R27="X",S27="X"),"",IF(OR(AT27=8,AT27=9,U27=""),"",IF(OR(AT27=4,AT27=11),BQ27*16/100,"")))) | Z27: =IF(OR(AT27=17,AT27=7),(BQ27*16/100+BQ27+L27-V27)*U27,IF(OR(AT27=16,AT27=15,AT27=8,AT27=13,AT27=1,AT27=9,AT27=20,AT27=21),BQ27*U27,IF(AT27=12,(BQ27+L27-V27)*U27,IF(OR(AT27=4,AT27=11),(BQ27*16/100+BQ27)*U27,IF(AT27=6,(BQ27+L27-V27)*U27,0))))) -> #VALUE! | AA27: =IF(OR(U27="",U27=0,V27=""),"",IF(OR(Z27=0,Z27=""),"",IF(Z27/U27>L27,L27*U27,Z27))) | AC27: =IF(C27="","",IF(C27-U27=0,"",C27-U27)) | AD27: =IF(AC27="","",AC27*L27) | AJ27: 16 | AM27: =BQ27 | AN27: =SUM(AK27:AM27) -> 0 | AO27: =IF(AND(COUNTIF(P27:T27,"x")=3,P27="X",S27="X",T27="X"),17,IF(COUNTIF(P27:T27,"x")=0,1,0)) -> 1 | AP27: =IF(AND(COUNTIF(P27:T27,"x")=2,P27="x",T27="X"),7,IF(AND(COUNTIF(P27:T27,"x")=1,P27="X"),4,IF(AND(COUNTIF(P27:T27,"x")=1,T27="X"),6,0))) -> 0 | AQ27: =IF(AND(COUNTIF(P27:T27,"x")=2,S27="X",R27="X"),9,IF(AND(COUNTIF(P27:T27,"x")=2,S27="X",P27="X"),11,IF(AND(COUNTIF(P27:T27,"x")=2,S27="X",T27="X"),12,IF(AND(COUNTIF(P27:T27,"x")=1,S27="X"),13,0)))) -> 0 | AR27: =IF(AND(COUNTIF(P27:T27,"x")=3,P27="X",R27="X",T27="X"),21,IF(AND(COUNTIF(P27:T27,"x")=1,R27="X"),8,IF(AND(COUNTIF(P27:T27,"x")=2,R27="X",P27="X"),15,IF(AND(COUNTIF(P27:T27,"x")=2,R27="X",T27="X"),16,0)))) -> 0 | AS27: =IF(AND(COUNTIF(P27:T27,"x")=4,P27="X",R27="X",S27="X",T27="X"),20,IF(AND(COUNTIF(P27:T27,"x")=3,R27="X",S27="X",T27="X"),20,IF(AND(COUNTIF(P27:T27,"x")=3,P27="X",R27="X",S27="X"),20,0))) -> 0 | AT27: =SUM(AO27:AS27) -> 1 | AU27: 12 | AV27: =IF(OR(U27="",AT27=20,AT27=21),0,IF(OR(AT27=8,AT27=9,AT27=15),0,IF(P27<>"",AA27,0))) -> 0 | AW27: =IF(OR(U27="",AT27=20,AT27=21),0,IF(OR(AT27=8,AT27=9,AT27=15),0,IF(P27<>"",U27,0))) -> 0 | AX27: =IF(OR(AT27=4,AT27=7),AV27,0) -> 0 | AY27: =IF(OR(AT27=11,AT27=17),AV27,0) -> 0 | AZ27: =IF(OR(U27="",AT27=20),0,IF(OR(AT27=4,AT27=5,AT27=6,AT27=7,AT27=3,AT27=1),U27,0)) -> 0 | BA27: =IF(OR(U27="",AT27=20),0,IF(OR(AT27=4,AT27=5,AT27=6,AT27=7,AT27=3,AT27=1),AA27,0)) -> 0 | BB27: =IF(AD27="",0,AD27) -> 0 | BC27: =IF(OR(AT27=20,U27=""),0,IF(OR(AT27=4,AT27=5,AT27=6,AT27=7,AT27=3,AT27=1),N27-BB27,0)) -> 0 | BD27: =IF(OR(U27="",AT27=20),0,IF(OR(AT27=8,AT27=14,AT27=15,AT27=16,AT27=21),U27,0)) -> 0 | BE27: =IF(OR(U27="",AT27=20),0,IF(OR(AT27=8,AT27=14,AT27=15,AT27=16,AT27=21),AA27,0)) -> 0 | BF27: =IF(OR(U27="",AT27=20),0,IF(OR(AT27=8,AT27=14,AT27=15,AT27=16,AT27=21),N27-BB27,0)) -> 0 | BG27: =IF(U27="",0,IF(OR(AT27=9,AT27=20),U27,0)) -> 0 | BH27: =IF(U27="",0,IF(OR(AT27=9,AT27=20),AA27,0)) -> 0 | BI27: =IF(U27="",0,IF(OR(AT27=9,AT27=20),N27-BB27,0)) -> 0 | BJ27: =IF(AT27=20,0,IF(OR(AT27=10,AT27=11,AT27=12,AT27=13,AT27=17,AT27=18),U27,0)) -> 0 | BK27: =IF(OR(U27="",AT27=20),0,IF(OR(AT27=10,AT27=11,AT27=12,AT27=13,AT27=17,AT27=18,),AA27,0)) -> 0 | BL27: =IF(OR(U27="",AT27=20),0,IF(OR(AT27=10,AT27=11,AT27=12,AT27=13,AT27=17,AT27=18),N27-BB27,0)) -> 0 | BN27: =IF(L27<V27,L27,V27) | BO27: =IF(OR(L27="",V27=""),0,L27-V27) -> 0 | BP27: =IF(E27="",0,E27-2) -> 0 | BQ27: =IF(OR(L27="",U27=""),"",IF(AND(E27=1,L27>=45),45,IF(AND(E27=1,L27<45),45,IF(AND(E27=2,L27>60),60,IF(AND(E27=2,L27<60),60,IF(AND(F27=3,L27>72),72,IF(AND(E27>2,BP27*12+60>L27),BP27*12+60,BP27*12+60)))))))
